BEGIN:VCALENDAR
VERSION:2.0
PRODID:-//ΗΧΟΣ FM  94.2 Μουσικό Ραδιόφωνο - ECPv6.15.12.2//NONSGML v1.0//EN
CALSCALE:GREGORIAN
METHOD:PUBLISH
X-ORIGINAL-URL:https://hxosfm.gr
X-WR-CALDESC:Events for ΗΧΟΣ FM  94.2 Μουσικό Ραδιόφωνο
REFRESH-INTERVAL;VALUE=DURATION:PT1H
X-Robots-Tag:noindex
X-PUBLISHED-TTL:PT1H
BEGIN:VTIMEZONE
TZID:Europe/Athens
BEGIN:DAYLIGHT
TZOFFSETFROM:+0200
TZOFFSETTO:+0300
TZNAME:EEST
DTSTART:20230326T010000
END:DAYLIGHT
BEGIN:STANDARD
TZOFFSETFROM:+0300
TZOFFSETTO:+0200
TZNAME:EET
DTSTART:20231029T010000
END:STANDARD
BEGIN:DAYLIGHT
TZOFFSETFROM:+0200
TZOFFSETTO:+0300
TZNAME:EEST
DTSTART:20240331T010000
END:DAYLIGHT
BEGIN:STANDARD
TZOFFSETFROM:+0300
TZOFFSETTO:+0200
TZNAME:EET
DTSTART:20241027T010000
END:STANDARD
BEGIN:DAYLIGHT
TZOFFSETFROM:+0200
TZOFFSETTO:+0300
TZNAME:EEST
DTSTART:20250330T010000
END:DAYLIGHT
BEGIN:STANDARD
TZOFFSETFROM:+0300
TZOFFSETTO:+0200
TZNAME:EET
DTSTART:20251026T010000
END:STANDARD
END:VTIMEZONE
BEGIN:VEVENT
DTSTART;TZID=Europe/Athens:20240315T210000
DTEND;TZID=Europe/Athens:20240329T233000
DTSTAMP:20260423T003932
CREATED:20240229T184856Z
LAST-MODIFIED:20240314T183417Z
UID:63569-1710536400-1711755000@hxosfm.gr
SUMMARY:Live με τους Άνω Κάτω
DESCRIPTION:Οι Άνω Κάτω (Δημήτρης Τζήμας και Βαγγέλης Ματσουλιάδης)\, για μία μοναδική μουσική βραδιά στο Μεζεδοπωλείο Συμπληγάδες! \nΏρα έναρξης 21:00. \nΚρατήσεις: 694 206 1663
URL:https://hxosfm.gr/event/live-%ce%bc%ce%b5-%cf%84%ce%bf%cf%85%cf%82-%ce%ac%ce%bd%cf%89-%ce%ba%ce%ac%cf%84%cf%89/
LOCATION:Συμπληγάδες\, Βερνάδου 25\, Ρέθυμνο
CATEGORIES:ΑΤΖΕΝΤΑ
ATTACH;FMTTYPE=image/jpeg:https://hxosfm.gr/wp-content/uploads/anokatw.jpg
END:VEVENT
BEGIN:VEVENT
DTSTART;TZID=Europe/Athens:20240320T183000
DTEND;TZID=Europe/Athens:20240320T203000
DTSTAMP:20260423T003932
CREATED:20240312T123917Z
LAST-MODIFIED:20240312T195755Z
UID:63258-1710959400-1710966600@hxosfm.gr
SUMMARY:Η Άννα Γαλανού σε περιοδεία στην Κρήτη για το νέο της βιβλίο
DESCRIPTION:Για την παγκόσμια ημέρα της γυναίκας\, έρχεται στο Ρέθυμνο για μία συνάντηση\, η συγγραφέας Άννα Γαλανού\, με αφορμή το νέο της βιβλίο. \n  \nΡέθυμνο – 20/03 \n  \nΤο βιβλίο\, το οποίο πραγματεύεται σύγχρονα κοινωνικά θέματα\, μεταξύ των οποίων η γυναικεία κακοποίηση\, κυκλοφόρησε από τις εκδόσεις Διόπτρα πριν 3 μήνες. \nΈξι γυναίκες\, κακοποιημένες από τον ίδιο άντρα. Θα καταφέρουν να αποδοθεί δικαιοσύνη; \n  \nΗ συγγραφέας Άννα Γαλανού\, με καταγωγή από τα Πεζά Ηρακλείου Κρήτης\, ορμώμενη από αληθινά γεγονότα\, \nγίνεται η φωνή κάθε γυναίκας που έχει υποστεί οποιαδήποτε μορφή βίας. \n  \n  \nΖωές απέναντι: Ένα μυθιστόρημα που γίνεται φωνή για τις γυναίκες που έχουν υποστεί βία \nΈξι γυναίκες\, κακοποιημένες από τον ίδιο άντρα. Θα καταφέρουν να αποδοθεί δικαιοσύνη; Η Άννα Γαλανού\, ορμώμενη από αληθινά γεγονότα\, γίνεται η φωνή κάθε γυναίκας που έχει υποστεί οποιαδήποτε μορφή βίας. \nΔιαβάζουμε στο οπισθόφυλλο \nΈξι γυναίκες\, μια ιστορία με κοινό συνδετικό κρίκο που ενώνει όλα τα κομμάτια μιας μακριάς αλυσίδας. \nΣτόχος ζωής για τη Βέρα είναι να γίνει γιατρός\, κι έτσι η επιτυχία της στην Ιατρική Σχολή Αθηνών την κάνει να πετάει στα ουράνια. Μαζί με τη γιαγιά της ζουν σε μια λαϊκή γειτονιά της Αθήνας και\, παρότι τα φέρνουν δύσκολα βόλτα\, ποτέ δεν ένιωσε να της λείπει τίποτα. Η αγάπη περισσεύει στη ζωή της\, το ίδιο και η πίστη και η υποστήριξη από την κυρα-Βαρβάρα\, που καμαρώνει για την εγγόνα της. Κάποια στιγμή όμως όλα γυρίζουν ανάποδα κι η Βέρα\, με κομμένα φτερά\, μένει μετέωρη στη μέση του πουθενά. \nΜετά τον θάνατο της μητέρας της\, ο κόσμος της μικρής Ρεβέκκας καταρρέει απότομα και η ζωή της αλλάζει ριζικά. Λίγα χρόνια αργότερα\, κι έχοντας ως στήριγμα τη θεία της Μίνα\, πηγαίνει στην Αθήνα να σπουδάσει. Πολύ σύντομα ανακαλύπτει συγκλονισμένη πως όλα όσα πίστευε ως τότε στηρίζονταν σ’ ένα μεγάλο ψέμα. Οι τραγικές αλήθειες και οι φρικτές αποκαλύψεις που μία μία βγαίνουν στο φως μοιάζουν να μην έχουν τέλος. Όλες συγκλίνουν σε ένα και μόνο πρόσωπο: αυτό που ανέκαθεν καταδυνάστευε και την ίδια. \nΈνα ονειροπόλο κορίτσι είναι η Στέλλα\, που όταν γνωρίζει τον μεγάλο έρωτα της ζωής της του δίνεται ψυχή τε και σώματι. Ολομόναχη καθώς είναι στον κόσμο\, αγκιστρώνεται πάνω του\, παραβλέποντας κενά και αντιφάσεις\, και παίρνει την πιο μεγάλη και καθοριστική απόφαση για το μέλλον της: να εγκαταλείψει τα όνειρά της και να τον ακολουθήσει. \nΗ Ευδοκία συνεχίζει να ζει με τους εφιάλτες της\, η Μίνα ματαιοπονεί πως θα μπορέσει να συγχωρήσει και να ξεχάσει\, ενώ η Ελένη αντιμάχεται μια αδιέξοδη\, σκληρή πραγματικότητα. \nΚαι ένα μήνυμα… \nΚακοποίηση Βία\, έλεγχος\, φόβος\, ντροπή. \nΜίλησε! Δεν είσαι μόνη σου! \nΛίγα λόγια για τη συγγραφέα \nΓεννήθηκα και μεγάλωσα στα Πεζά Ηρακλείου Κρήτης. Γράφω από νεαρή ηλικία και έχω ασχοληθεί με τα περισσότερα είδη του πεζού και έμμετρου λόγου: μυθιστοριογραφία\, διηγήματα\, ποίηση\, παιδική λογοτεχνία\, παραμύθια\, στίχους\, θεατρικά και δοκίμια. Για το έργο μου συνολικά\, έχω τιμηθεί με πολλά πανελλήνια βραβεία και διακρίσεις. Από τις εκδόσεις Διόπτρα κυκλοφορούν τα τρία βιβλία της ιστορικής τριλογίας «Οι Δρόμοι της Καταιγίδας» –Θυσία\, Εκδίκηση\, Εξιλέωση–\, η διλογία «Το τίμημα της αλήθειας» –Άλλη θάλασσα εκεί\, Λιμάνια ονείρων–\, καθώς και τα μυθιστορήματα Οι τρεις φωτιές\, Στην Πόλη των λυγμών\, Μαργκώ\, Αντιμέτωποι με το χθες\, Το παράπονό μου μια κραυγή\, Όταν φεύγουν τα σύννεφα\, Σμαράγδι στη βροχή καιΤότε που τραγουδούσαν οι θεοί.
URL:https://hxosfm.gr/event/%ce%b7-%ce%ac%ce%bd%ce%bd%ce%b1-%ce%b3%ce%b1%ce%bb%ce%b1%ce%bd%ce%bf%cf%8d-%cf%83%ce%b5-%cf%80%ce%b5%cf%81%ce%b9%ce%bf%ce%b4%ce%b5%ce%af%ce%b1-%cf%83%cf%84%ce%b7%ce%bd-%ce%ba%cf%81%ce%ae%cf%84%ce%b7/
LOCATION:Εργατικό Κέντρο Ρεθύμνου\, Γιαμπουδάκη 12
CATEGORIES:ΑΤΖΕΝΤΑ
ATTACH;FMTTYPE=image/jpeg:https://hxosfm.gr/wp-content/uploads/zwesapenanti.jpg
END:VEVENT
BEGIN:VEVENT
DTSTART;TZID=Europe/Athens:20240320T183000
DTEND;TZID=Europe/Athens:20240320T223000
DTSTAMP:20260423T003932
CREATED:20240314T164407Z
LAST-MODIFIED:20240314T164407Z
UID:63835-1710959400-1710973800@hxosfm.gr
SUMMARY:Βραδιά αφήγησης παραμυθιών για μικρούς και μεγάλους
DESCRIPTION:Βραδιά αφήγησης παραμυθιών για μικρούς και μεγάλους! \n  \nΘα σου πω ένα παραμύθι στρογγυλό σαν το ρεβίθι \nΘα σου πω ένα παραμύθι μακρουλό σαν κολοκύθι. \nΑπό κάτω απ’ το ραδίκι\, ξέχασα το παραμύθι \nΌποιος το ‘βρει\, να το πει\, και ν’ αρχίσει απ’ την αρχή. \nΚι ήμουνα κι εγώ εκεί μ’ ένα κόκκινο βρακί. \n  \nΤην Τετάρτη 20 Μαρτίου οΣύλλογος καλλιτεχνών για την προώθηση της τέχνης κατ-ART-ι σε συνεργασία με το θέατρο The Garage σας καλούν να απολαύστε μια βραδιά αφήγησης με παραμύθια και ιστορίες από όλο τον κόσμο\, τη λαϊκή παράδοση και τη λογοτεχνία. Θα αφηγηθούν οι «Παραμυθάδες εν πλω» (Βαλαβάνη Δήμητρα\, Μπεμπλιδάκη Αγγελική\, Μπλαζάκης Νίκος\, Ροζάκη Στέλλα\, Τζιάκη Δέσποινα)\, η Εύη Δήμου\, η Ραλού Τατσοπούλου και «οι Παραμυθάδες της πόλης των Χανίων» (Βάνια Σταμπολάκη με τη συνοδεία του Χάρη Παπαμμανουήλ στα κρουστά) από τα Χανιά και Μαρία Τσουκνάκη\, Αμάντα Γεραρχάκη\, και  Άλκης Πασχαλίδης από το Ρέθυμνο. \nΗ Παγκόσμια Ημέρα Αφήγησης είναι μια παγκόσμια γιορτή των αφηγητών. Έχει τις ρίζες της στη Σουηδία\, όπου στις αρχές της δεκαετίας του 1990 διοργανώθηκε μια εκδήλωση στις 20 Μαρτίου. Η εκδήλωση αυτή ονομάστηκε “Alla berattares dag” (Όλη την ημέρα παραμυθάδες) κι έγινε δεκτή με ενθουσιασμό ενώ απέκτησε φανατικούς υποστηρικτές που διέδωσαν την ιδέα. Από εκεί έφτασε μέχρι το Περθ της Αυστραλίας όπου το 1997 αφηγητές συντόνισαν μια μεγάλη Γιορτή των Ιστοριών\, διάρκειας 5 εβδομάδων.Το 2001 ξεκίνησε το σκανδιναβικό δίκτυο αφήγησης Ratatosk και η εκδήλωση εξαπλώθηκε από τη Σουηδία στη Νορβηγία\, τη Δανία\, τη Φινλανδία και τη Λιθουανία. Το 2003 έφτασε μέχρι τον Καναδά και άλλες χώρες\, οπότε η εκδήλωση έγινε γνωστή διεθνώς ως Παγκόσμια Ημέρα Αφήγησης. Το 2005 είχε μια σπουδαία κορύφωση στις 20 Μαρτίου με γεγονότα σε 25 χώρες σε 5 ηπείρους. Από τότε\, τέτοιου είδους εκδηλώσεις άρχισαν να γίνονται σε πολλά μέρη του κόσμου καθιερώνοντας το θεσμό.Στην Ελλάδα γιορτάστηκε για πρώτη φορά το 2010 από το Κέντρο Μελέτης και Διάδοσης Μύθων και Παραμυθιών.* \nΤην Τετάρτη 20 Μαρτίου λοιπόν\, τα παραμύθια έρχονται στο Ρέθυμνο να απλώσουν την μαγεία και τις αλήθειες τους  μέσα από τα στόματα και τα σώματα 11 αφηγητών από Χανιά και Ρέθυμνο. \nΟι αφηγήσεις θα χωριστούν σε δύο μέρη. \nΑπό τις 6.30 ως τις 7.30 για παιδικό κοινό και από τις 8 ως τις 9.00 για παιδιά από 8 ετών κι ενήλικες.  \n  \nΗ είσοδος είναι ελεύθερη για όλους! \nΘα τηρηθεί σειρά προτεραιότητας. \nΠληροφορίες στο τηλ.: 6946269347 \n  \n* πηγή https://e-mythos-house.blogspot.com/p/blog-page_10.html \n  \nThe Garage\, Δημοκρατίας 53\, Ρέθυμνο (απέναντι από το Μηχανολογικό)
URL:https://hxosfm.gr/event/%ce%b2%cf%81%ce%b1%ce%b4%ce%b9%ce%ac-%ce%b1%cf%86%ce%ae%ce%b3%ce%b7%cf%83%ce%b7%cf%82-%cf%80%ce%b1%cf%81%ce%b1%ce%bc%cf%85%ce%b8%ce%b9%cf%8e%ce%bd-%ce%b3%ce%b9%ce%b1-%ce%bc%ce%b9%ce%ba%cf%81%ce%bf/
LOCATION:The Garage\, Δημοκρατίας 53\, Ρέθυμνο
CATEGORIES:ΑΤΖΕΝΤΑ
ATTACH;FMTTYPE=image/jpeg:https://hxosfm.gr/wp-content/uploads/garage.jpg
END:VEVENT
END:VCALENDAR