BEGIN:VCALENDAR
VERSION:2.0
PRODID:-//ΗΧΟΣ FM  94.2 Μουσικό Ραδιόφωνο - ECPv6.15.12.2//NONSGML v1.0//EN
CALSCALE:GREGORIAN
METHOD:PUBLISH
X-WR-CALNAME:ΗΧΟΣ FM  94.2 Μουσικό Ραδιόφωνο
X-ORIGINAL-URL:https://hxosfm.gr
X-WR-CALDESC:Events for ΗΧΟΣ FM  94.2 Μουσικό Ραδιόφωνο
REFRESH-INTERVAL;VALUE=DURATION:PT1H
X-Robots-Tag:noindex
X-PUBLISHED-TTL:PT1H
BEGIN:VTIMEZONE
TZID:Europe/Athens
BEGIN:DAYLIGHT
TZOFFSETFROM:+0200
TZOFFSETTO:+0300
TZNAME:EEST
DTSTART:20220327T010000
END:DAYLIGHT
BEGIN:STANDARD
TZOFFSETFROM:+0300
TZOFFSETTO:+0200
TZNAME:EET
DTSTART:20221030T010000
END:STANDARD
BEGIN:DAYLIGHT
TZOFFSETFROM:+0200
TZOFFSETTO:+0300
TZNAME:EEST
DTSTART:20230326T010000
END:DAYLIGHT
BEGIN:STANDARD
TZOFFSETFROM:+0300
TZOFFSETTO:+0200
TZNAME:EET
DTSTART:20231029T010000
END:STANDARD
BEGIN:DAYLIGHT
TZOFFSETFROM:+0200
TZOFFSETTO:+0300
TZNAME:EEST
DTSTART:20240331T010000
END:DAYLIGHT
BEGIN:STANDARD
TZOFFSETFROM:+0300
TZOFFSETTO:+0200
TZNAME:EET
DTSTART:20241027T010000
END:STANDARD
END:VTIMEZONE
BEGIN:VEVENT
DTSTART;TZID=Europe/Athens:20230615T100000
DTEND;TZID=Europe/Athens:20230915T200000
DTSTAMP:20260424T085829
CREATED:20230702T172350Z
LAST-MODIFIED:20230702T172350Z
UID:62782-1686823200-1694808000@hxosfm.gr
SUMMARY:Έκθεση 'Η Επανάσταση στην Κρήτη χορεύεται'
DESCRIPTION:Ημερ/νίες\n15/06/2023 – 15/09/2023 ώρα 10:00-20:00\n\n\nΤοποθεσία\nΘόλος Ιμπραήμ Χαν\, Ρέθυμνο\n\n\n\n 
URL:https://hxosfm.gr/event/%ce%ad%ce%ba%ce%b8%ce%b5%cf%83%ce%b7-%ce%b7-%ce%b5%cf%80%ce%b1%ce%bd%ce%ac%cf%83%cf%84%ce%b1%cf%83%ce%b7-%cf%83%cf%84%ce%b7%ce%bd-%ce%ba%cf%81%ce%ae%cf%84%ce%b7-%cf%87%ce%bf%cf%81%ce%b5%cf%8d%ce%b5/
LOCATION:Θόλος Ιμπραήμ Χαν
CATEGORIES:ΑΤΖΕΝΤΑ
ATTACH;FMTTYPE=image/jpeg:https://hxosfm.gr/wp-content/uploads/afisa_33x49-scaled.jpg
END:VEVENT
BEGIN:VEVENT
DTSTART;TZID=Europe/Athens:20230623T193000
DTEND;TZID=Europe/Athens:20230808T220000
DTSTAMP:20260424T085829
CREATED:20230618T114407Z
LAST-MODIFIED:20230618T114407Z
UID:62713-1687548600-1691532000@hxosfm.gr
SUMMARY:Ομοιόστασις | Homeostasis: Maelee Lee
DESCRIPTION:Ομοιόστασις | Homeostasis: Maelee Lee\nΕπιμέλεια: Θάλεια Βραχοπούλου\nΑίθουσα Πυροβολικού\, Φορτέτσα – Ρέθυμνο\nΕγκαίνια: Παρασκευή\, 23 Ιουνίου 2023\, 19:30\n\nΤο Μουσείο Σύγχρονης Τέχνης Κρήτης με χαρά παρουσιάζει την έκθεση Maelee Lee: Homeostasis\, σε επιμέλεια της Dr. Θάλειας Βραχοπούλου. Η έκθεση εγκαινιάζεται στις 23 Ιουνίου\, με ώρα έναρξης στις 7:30 μ.μ.\, στο Κτήριο Πυροβολικού\, στη Φορτέτσα Ρεθύμνου.\n\nΟ όρος «ομοιόσταση» περιγράφει την ενδόμυχη λειτουργία μίας μορφής ζωής (life form)\, μέσω της οποίας\, ο ζωντανός οργανισμός συντηρεί τις εσωτερικές του συνθήκες\, σταθερές και όμοιες\, ανεξάρτητα από όλες τις εξωτερικές μεταβολές. Η ομαλή διατήρηση της θερμοκρασίας του σώματος\, η συγκέντρωση της γλυκόζης στο αίμα\, όπως και η ρύθμιση της οξύτητάς (pH) του\, αποτελούν πολύτιμα εργαλεία\, δικλείδες ασφαλείας και βιολογικούς θερμοστάτες\, μέσω των οποίων\, προστατεύεται η εύθραυστη υγεία ενός ζωντανού όντος. Παρομοίως\, η φιλοσοφική ιδέα ότι ο πλανήτης μας συνιστά έναν ζωντανό οργανισμό\, ο οποίος ενέχει ομοίως μία «ψυχή»\, τη γνωστή «anima mundi»\, υπάρχει ήδη στον Πλάτωνα\, ή στον Στωικισμό\, ενώ η ίδια σκέψη επανέρχεται ξανά σήμερα\, διαφορετικά εκφρασμένη ως «the Gaia Hypothesis»\, ή «Gaia Principle».\n\nΟ James Lovecock\, στο βιβλίο του\, «The Vanishing Face of Gaia: A Final Warning» την ορίζει ως εξής: «μία αντίληψη της Γης που εισήχθη τη δεκαετία του ‘80 και τη βλέπει ως ένα αυτορρυθμιζόμενο σύστημα που αποτελείται από το σύνολο των οργανισμών\, τα επιφανειακά πετρώματα\, τον ωκεανό και την ατμόσφαιρα\, στενά συνδεδεμένα μεταξύ τους ως ένα εξελισσόμενο σύστημα. Η θεωρία αναφέρει ότι αυτό το σύστημα έχει έναν στόχο – τη ρύθμιση των επιφανειακών συνθηκών έτσι ώστε να είναι όσο το δυνατόν πιο ευνοϊκές για τη ζωή».\n\nΈτσι\, η Γη περιέχει ομοίως τη δική της ομοιοστατική λειτουργία\, η οποία φροντίζει πυρετωδώς να διατηρήσει ομαλά το πολύτιμο φαινόμενο της «ζωής» έναντι των «βλαβερών» ανθρώπινων\, και μη-ανθρώπινων παθογενειών. Ο κτηνώδης χωρισμός του πλανήτη σε αντιμαχόμενα κράτη-έθνη\, ο επικείμενος κίνδυνος των ατομικών όπλων\, ή ενός επερχόμενου πυρηνικού ολοκαυτώματος\, όπως και η διαφαινόμενη άνοδος της τεχνητής νοημοσύνης εν μέσω παγκόσμιων οικονομικών\, πολιτικών\, τεχνολογικών και πολιτιστικών «συγκρούσεων»\, ή οι αδυσώπητες καταστροφές μιας ασταμάτητης κλιματικής αλλαγής συνιστούν έναν τρομερό κίνδυνο για την εξισορροπητική δραστηριότητα ολόκληρου του πλανήτη\, καθώς και για τις πολλές κοινωνικές δομές\, οι οποίες σιγά σιγά αποδομούνται ένεκα της ισχνής τους ανικανότητας να συγκρατήσουν τις αντικρουόμενες ορμές μίας μαινόμενης ανθρωπότητας.\n\nΤα πολυσύνθετα έργα της Lee Mae Lee\, από τη σειρά “Homeostasis”\, επιλεκτικά εμποτισμένα με έναν οπτικό και υλικό «μαξιμαλισμό»\, παρόμοιο με τα έργα του Vik Muniz\, εκφράζουν εξαιρετικά την αβάσταχτη ανησυχία για μία χαμένη «ομοιόσταση» ενός άρρωστου πλανήτη-οργανισμού: μία σύγχρονη\, ακτιβιστική «Κραυγή» κατά των νοσοφόρων συνθηκών\, οι οποίες καταστρέφουν τη λεπτεπίλεπτη ισορροπία της Γης\, αλλά και ένα μοντέρνο\, θριαμβευτικό «memento mori» σε σχέση με την ατέρμονη ρευστότητα όλων των πραγμάτων\, ή όπως η Lee Mae Lee δηλώνει: «To έργο μου αφορά στο οντολογικό ζήτημα\, δηλαδή στα ερωτηματικά για τη ζωή και τον θάνατο καθώς και στη δημιουργία και την εξαφάνιση των λαών και των εθνών. Ξεκινά από το ζήτημα της οργανικής σχέσης μεταξύ της ανόδου και της παρακμής διαφόρων εθνών και της αντικατάστασης των λαών\, της ιστορίας του πολιτισμού που έχει επαναλάβει τον κύκλο ολόκληρου του ανθρώπινου είδους και του πεπερασμένου της ζωής».\n\nΠρόκειται για μία μεγάλη εγκατάσταση που τοποθετείται στους δύο ορόφους του Βενετσιάνικου Πυροβολικού στη Φορτέτσα του Ρεθύμνου\, η οποία αναπτύσσεται με τη συμμετοχή πρωτογενών και έντεχνων υλικών.\n\nΗ διάρκεια της έκθεσης θα είναι από τις 23 Ιουνίου έως τις 8 Αυγούστου 2023.
URL:https://hxosfm.gr/event/%ce%bf%ce%bc%ce%bf%ce%b9%cf%8c%cf%83%cf%84%ce%b1%cf%83%ce%b9%cf%82-homeostasis-maelee-lee/
LOCATION:Φορτέτζα
CATEGORIES:ΑΤΖΕΝΤΑ
ATTACH;FMTTYPE=image/jpeg:https://hxosfm.gr/wp-content/uploads/cast.jpg
END:VEVENT
BEGIN:VEVENT
DTSTART;TZID=Europe/Athens:20230727T210000
DTEND;TZID=Europe/Athens:20230730T233000
DTSTAMP:20260424T085829
CREATED:20230723T113334Z
LAST-MODIFIED:20230723T113334Z
UID:62909-1690491600-1690759800@hxosfm.gr
SUMMARY:Υακίνθεια 2023
DESCRIPTION:25 χρόνια Υακίνθεια \nΥακίνθεια 2023\n«Η ΝΟΣΤΑΛΓΙΑ»\nΗ πρόσβαση στο κόσμο των αναμνήσεων\n\n\nΠΕΜΠΤΗ 27 ΙΟΥΛIΟΥ / 21:00\n\n\n«Το μυρμήγκι και η πεταλούδα»\nθεατρική παράσταση των μαθητών του Δημοτικού Σχολείου Ανωγείων.\nΗ Zαφειρένια Δραμουντάνη και η Ελένη Σαλούστρου\, δασκά- λες στο δημοτικό σχολείο Ανωγείων\, επιμελήθηκαν με πολλή πίστη στους μαθητές τους\, μια παράσταση που μας διδάσκει την υποχρέωση στον καθένα μας για μια πτήση\, έστω και χωρίς φτερά\, μια παιδική παράσταση γεμάτη αγάπη.\n«Έστω για μια στιγμή να βρεθείς\nστην κορυφή του κόσμου\, αξίζει πιο πολύ από όσο\nμια ολόκληρη ζωή πάνω και κάτω από το χώμα»\nΕίπε η πεταλούδα στο μικρό μυρμήγκι και πέταξε για το λιβάδι.\n\n\nΠαράσταση με τον Mάγο “Vitalio”\nΟ μάγος Vitalio εξειδικεύεται σε Stage magic\nκαι Close up magic χαρίζοντας απίστευτες στιγμές μυστηρίου\, κρατώντας υψηλά τα σκήπτρα της τέχνης που εκπροσωπεί.\n\n\n\nΠΑΡΑΣΚΕΥΗ 28 ΙΟΥΛΙΟΥ / 21:00\n\n\nΟμιλία: «Nόστος\, η διαχρονική επιθυμία της επιστροφής»\nαπό τον Γιώργο Καλομοίρη.\n\n\nΣυναυλία: Σουζάνα & Ελένη Βουγιουκλή\nΜια καρδιά\, μια ψυχή σε δύο υπέροχα σώματα που μελωδούν με την πολυφωνική τους γνώση και παράγουν γοητεία που καθηλώνει.\n\n\nΜαρία Κώτη\nMε την πολύχρονη εμπειρία. Φωνή σπαραχτική\, αντλεί από τη μακρινή μνήμη της καταγωγής μας και μας καθιστά άφωνους νοσταλγούς.\n\n\nΣτέλλα Σειραγάκη\nKομψή\, περήφανή\, εσωτερική. Ερμηνεύει τη βαθιά Κρήτη\nμε θεϊκή απλότητα.\n\n\nΛουδοβίκος των Ανωγείων\n\n\nΧορός από το συγκρότημα «Ακρήτες»\nMια νέα άποψη πάνω στο χορό από τη Φένια Χαιρέτη\nκαι τον Παύλο Πωλιουδάκη που διδάσκουν στις νέες γενιές\nτην καθαρότητα των βηματισμών που χρειάζεται\nη παράδοση\, για να προχωρήσει.\n\n\n\nΣΑΒΒΑΤΟ 29 ΙΟΥΛΙΟΥ / 21:00\n\n\nΟ ΠΡΥΤΑΝΗΣ της καρδιάς μας\nΓιώργος Γραμματικάκης\, για άλλη μια φορά\nστα Υακίνθεια ανασκάπτει το ουράνιο στερέωμα\nκαι συνομιλεί με το Φως.\n\n\nΟμιλία: «η Νοσταλγία του Φωτός»\nαπό τον Γιώργο Γραμματικάκη\nΕνώ η ανθρωπότητα ζει τα τελευταία χρόνια μια σκοτεινή περίοδο της ιστορίας της\, η επιστήμη αποκάλυψε και μια άλλη\, συγκλονιστική αλήθεια: ότι σκοτεινό είναι και το ίδιο το Σύμπαν! Μια σκοτεινή ύλη\, με άγνωστη φύση\, αλλά και μια σκοτεινή ενέργεια\, που ρυθμίζει το μέλλον του\, κυριαρχούν σε όλη την έκταση του Σύμπαντος.\n\n\nΌπως θα τονίσει ο ομιλητής\, μόνον η νοσταλγία του φωτός\, που είναι μια δύναμη αρχέγονη αλλά και ισχυρή\, μπορεί να ανατρέψει την εικόνα. Και να οδηγήσει όχι μόνον στην κατανόηση των μυστικών του Σύμπαντος\, αλλά κυρίως σε μια ανθρώπινη ζωή που θα διέπεται από αλληλεγγύη\nκαι τις φωτεινές αξίες του πολιτισμού.\n\n\nΤαξιδεύουν από χειμώνα σε χειμώνα ζεσταίνοντας\nτις καρδιές μας με το κομψό χιούμορ και το βαθύ στοχασμό.\n\n\nΣυναυλία: Χειμερινοί Κολυμβητές\n\nΔιαμορφώνουν το πρόγραμμά τους ανάλογα με το ακροατήριο\, τη διάθεσή τους\, αλλά και επηρεαζόμενοι προφανώς από την ιδιαίτερη πολιτική και γενικότερα πολιτιστική συγκυρία. Έτσι\, κάθε συναυλία τους είναι διαφορετική γιατί δημιουργείται «επί τόπου» με τη συμμετοχή του κοινού και κάθε παράστασή τους διακρίνεται όχι μόνο για τη μουσική τους πρόταση που συνδυάζει παραδοσιακά και σύγχρονα στοιχεία\, εφαρμοσμένα από δεξιοτέχνες μουσικούς\, αλλά και για την ευδιάθετη και ζεστή ατμόσφαιρα που δημιουργούν με το κοινό τους.\n\n\n\nΘα εμφανιστούν με την παρακάτω σύνθεση:\nAργύρης Μπακιρτζής: φωνή\, Κώστας Βόμβολος: ακορντεόν\nΜπάμπης Παπαδόπουλος: κιθάρα\, Χάρης Παπαδόπουλος: μπουζούκι\nΘοδωρής Ρέλλος: σαξόφωνο\nΔιονύσιος Ρούσσος: φωνή\, Τότα Ευλαβή: φωνή\n\n\n\nΚΥΡΙΑΚΗ 30 ΙΟΥΛΙΟΥ / 21:00\n\n\nΣυναυλία: Ευανθία Ρεμπούτσικα\nH μουσική από τα μπαχάρια της Ανατολής.\nΜε το βιολί της κόκκινο πιπέρι και τα κόκκινα μαλλιά να περιστρέφεται σαν δερβίσης δοσμένη στις μελωδίες\, που γεννάει το εμπνευσμένο μυαλό της.\nμαζί της οι: Ανδρέας Συμβουλόπουλος\,\nΠάνος Δημητρακόπουλος\, Νίκος Βεκύρης\, Ρόζα Ρούσσου\n\n\n\nΈκθεση προϊόντων\nΣτο χώρο του Αγίου Υακίνθου από 27 έως 30 Ιουλίου έκθεση «Τα δώρα του Ψηλορείτη».\nΟ Ψηλορείτης προσφέρει τις πρώτες ύλες και το μεράκι\nτων ανθρώπων τις μετουσιώνει σε ξεχωριστά προϊόντα γεύσης και τέχνης.\n\n\n\n\nΣτην ψυχρή του Μουσείου αίθουσα\nτην κλεμμένη\, ωραία\, κοιτώ\nμοναχή Καρυάτιδα.\nΤο σκοτεινό γλυκύ της βλέμμα\nεπίμονα εστραμμένο έχει\nστο σφριγηλό του Διονύσου σώμα\n(σε στάση ηδυπαθείας σμιλευμένο)\nπου δυό βήματα μόνον απέχει.\nΤο βλέμμα το δικό του έχει πέσει\nστη δυνατή της κόρης μέση.\nΠολυετές ειδύλλιον υποπτεύομαι\nτους δυό αυτούς να ’χει ενώσει.\nΚι έτσι\, όταν το βράδυ η αίθουσα αδειάζει\nαπ’ τους πολλούς\, τους θορυβώδεις επισκέπτες\,\nτον Διόνυσο φαντάζομαι\nπροσεκτικά απ’ τη θέση του να εγείρεται\nτων διπλανών γλυπτών και αγαλμάτων\nτην υποψία μην κινήσει\,\nκι όλος παλμό να σύρεται\nτη συστολή της Καρυάτιδας\nμε οίνον και με χάδια να λυγίσει.\n\n\nΔεν αποκλείεται όμως έξω να ’χω πέσει.\nΜιαν άλλη σχέση ίσως να τους δένει\nπιο δυνατή\, πιο πονεμένη:\nΤις χειμωνιάτικες βραδιές\nκαι τις εξαίσιες του Αυγούστου νύχτες\nτους βλέπω\,\nαπ’ τα ψηλά να κατεβαίνουν βάθρα τους\,\nτης μέρας αποβάλλοντας το τυπικό τους ύφος\,\nμε νοσταλγίας στεναγμούς και δάκρυα\nτους Παρθενώνες και τα Ερεχθεία\nπου στερήθηκαν\nστη μνήμη τους με πάθος ν’ ανεγείρουν.\n\n\nΚική Δημουλά\n\n\nΙδανικές φωνές\nκι αγαπημένες\nεκείνων που πεθάναν\,\nή εκείνων που είναι\nγια μας χαμένοι\nσαν τους πεθαμένους.\nΚάποτε μες στα όνειρά μας ομιλούνε\nκάποτε μες στην σκέψι τες\nακούει το μυαλό.\nΚαι με τον ήχο των για μια στιγμή επιστρέφουν\nήχοι από την πρώτη ποίησι της ζωής μας –\nσα μουσική\, την νύχτα\,\nμακρυνή\, που σβύνει.\nΚωνσταντίνος Καβάφης\n\n\n«Ναι\, ο Παράδεισος\nδεν ήταν μια νοσταλγία.\nΟύτε\, πολύ περισσότερο\,\nμια ανταμοιβή.\nΉταν ένα δικαίωμα».\nΟδυσσέας Ελύτης\n\n\nΣβήνοντας ένα κομμάτι\nαπό το παρελθόν\nείναι σαν να σβήνεις\nκαι ένα αντίστοιχο κομμάτι\nαπό το μέλλον.\nΓιώργος Σεφέρης\n\n  \n\nΈκθεση προϊόντων του Ψηλορείτη\nΘα ανακοινωθεί το Πρόγραμμα αναλυτικά εντός των ημερών
URL:https://hxosfm.gr/event/%cf%85%ce%b1%ce%ba%ce%af%ce%bd%ce%b8%ce%b5%ce%b9%ce%b1-2023/
LOCATION:Κουμπές
CATEGORIES:ΑΤΖΕΝΤΑ
ATTACH;FMTTYPE=image/jpeg:https://hxosfm.gr/wp-content/uploads/iakinitheia.jpg
END:VEVENT
BEGIN:VEVENT
DTSTART;TZID=Europe/Athens:20230727T210000
DTEND;TZID=Europe/Athens:20230730T233000
DTSTAMP:20260424T085829
CREATED:20230730T105256Z
LAST-MODIFIED:20230730T105256Z
UID:62925-1690491600-1690759800@hxosfm.gr
SUMMARY:Εβδομάδα κλασικής ελληνικής κωμωδίας. «Η ΦΙΝΟΣ ΦΙΛΜ ΠΑΡΟΥΣΙΑΖΕΙ...»
DESCRIPTION:Ημερ/νίες\n27/07/2023 – 02/08/2023 ώρα 21:00\n\n\nΤοποθεσία\nΔημοτικός Κήπος Ρεθύμνου\, Ρέθυμνο\n\n\n\nΕΒΔΟΜΑΔΑ ΚΛΑΣΙΚΗΣ \, ΕΛΛΗΝΙΚΗΣ ΚΩΜΩΔΙΑΣ – 80 ΧΡΟΝΙΑ ΦΙΝΟΣ ΦΙΛΜ \n  \nΓια ακόμα ένα καλοκαίρι\, ο σύλλογος μας «Εμείς και Εμείς» διοργανώνει εβδομάδα κλασικής ελληνικής κωμωδίας. Η οικεία σε όλους μας πρόταση η οποία συνοδεύει κάθε ταινία που προβάλλουμε\, αποτελεί για όλους μας εγγύηση ποιότητας και ψυχαγωγίας. \n  \n«Η ΦΙΝΟΣ ΦΙΛΜ ΠΑΡΟΥΣΙΑΖΕΙ…» \nΌσο για εμάς τη…  ΦΙΝΟΣ ΦΙΛΜ\, η εφετινή γιορτή είναι ξεχωριστή\, καθώς συμπληρώνονται 80 χρόνια από την  πρώτη ταινία της εταιρίας «Η Φωνή της Καρδιάς» το 1943. \nΗ επιτυχία τότε ήταν τόσο μεγάλη\, ώστε χαρακτηρίστηκε  ως «Εθνικός Θρίαμβος» από τον ίδιο τον Φιλοποίμενα Φίνο\, αλλά και από τους έκπληκτους κριτικούς της εποχής. \nΚαι πως να μην ήταν αφού για πρώτη φορά το αθηναϊκό κοινό είδε μία ελληνική ταινία με άρτιες προδιαγραφές παραγωγής\, τεχνικής\, ήχου και εικόνας… \nΕφέτος λοιπόν ΕΜΕΙΣ από τη ΦΙΝΟΣ ΦΙΛΜ και… «ΕΜΕΙΣ και ΕΜΕΙΣ» με όλη τη δύναμη της «Φωνής της Καρδιάς μας»\, σας καλούμε να γιορτάσουμε μαζί στην καρδιά της πόλης\, στον ιστορικό  Δημοτικό Κήπο Ρεθύμνου με μία εβδομάδα γεμάτη νοσταλγία\, ψυχαγωγία\, γέλιο και δυνατά αρώματα του … φίνου ελληνικού σινεμά και των λαμπερών αστεριών του. \n  \nΣας περιμένουμε από Πέμπτη 27 Ιουλίου μέχρι Τετάρτη 2 ΑΥΓΟΥΣΤΟΥ 2023 \, στον Δημοτικό Κήπο Ρεθύμνου\, με ώρα έναρξης κάθε προβολής τις 21.00. \n  \nΑπλά και γνήσια με γέλιο που χαρίζει …. \n  \nΠρόγραμμα προβολών ταινιών ΦΙΝΟΣ ΦΙΛΜ. \n27-7-2023 Η ΚΟΜΙΣΣΑ ΤΗΣ ΚΕΡΚΥΡΑΣ. \n28-7-2023 ΤΟ ΞΥΛΟ ΒΓΗΚΕ ΑΠΟ ΤΟΝ ΠΑΡΑΔΕΙΣΟ. \n29-7-2023 ΤΖΕΝΗ ΤΖΕΝΗ . \n30.7.23 Η ΩΡΑΙΑ ΤΩΝ ΑΘΗΝΩΝ. \n31-7-2023 ΞΥΠΝΑ ΒΑΣΙΛΗ . \n1-8-2023 ΚΑΤΙ ΝΑ ΚΑΙΕΙ. \n2-8-20223 ΡΑΝΤΕΒΟΥ ΣΤΟΝ ΑΕΡΑ. \n  \nΒρείτε περισσότερα εδώ.
URL:https://hxosfm.gr/event/%ce%b5%ce%b2%ce%b4%ce%bf%ce%bc%ce%ac%ce%b4%ce%b1-%ce%ba%ce%bb%ce%b1%cf%83%ce%b9%ce%ba%ce%ae%cf%82-%ce%b5%ce%bb%ce%bb%ce%b7%ce%bd%ce%b9%ce%ba%ce%ae%cf%82-%ce%ba%cf%89%ce%bc%cf%89%ce%b4%ce%af%ce%b1/
LOCATION:Δημοτικός Κήπος\, Ρέθυμνο
CATEGORIES:ΑΤΖΕΝΤΑ
ATTACH;FMTTYPE=image/jpeg:https://hxosfm.gr/wp-content/uploads/poster2023c-scaled.jpg
END:VEVENT
BEGIN:VEVENT
DTSTART;TZID=Europe/Athens:20230728T100000
DTEND;TZID=Europe/Athens:20230801T200000
DTSTAMP:20260424T085829
CREATED:20230730T124801Z
LAST-MODIFIED:20230730T124801Z
UID:62966-1690538400-1690920000@hxosfm.gr
SUMMARY:Νίκος Σταυριδάκης “Φαντάσματα της Βενετίας”
DESCRIPTION:Νίκος Σταυριδάκης \n“Φαντάσματα της Βενετίας” \n  \nΤο Καρναβάλι τελειώνει και οι δρόμοι αδειάζουν. Οι μάσκες επιστρέφουν σε ντουλάπες και συρτάρια αλλά είναι ζωντανές. Έχοντας “καταβροχθίσει” κομμάτια από τις ψυχές όλων όσων τις φόραγαν\, εκπέμπουν προς τα έξω τα σώψυχα του καθενός. Η καθεμιά λέει τη δική της σιωπηλή ιστορία\, αντικατοπτρίζει όσα “είδε και έζησε” τις ημέρες του Καρναβαλιού μέσα σε πολυπληθείς πλατείες\, μυστηριώδη σοκάκια\, εγκαταλελειμμένα κτίρια και σκοτεινά δωμάτια. Τα Φαντάσματα της Βενετίας “τρέφονται” από την παρακμή και το ρομαντισμό\, τη μελαγχολία και τη θλίψη\, τη νύχτα και όλα της τα θαύματα… \n  \n“Όταν το Καρναβάλι τελειώνει\, είμαστε και πάλι μόνοι”. \n  \n28 Αυγούστου – 03 Σεπτεμβρίου 2023  \nΚατακόμβες Φορτέτζας \nΡέθυμνο \n  \nΕίσοδος ελεύθερη  \n  \nH έκθεση είναι αφιερωμένη στη μνήμη του Τάκη Χάσικου.
URL:https://hxosfm.gr/event/%ce%bd%ce%af%ce%ba%ce%bf%cf%82-%cf%83%cf%84%ce%b1%cf%85%cf%81%ce%b9%ce%b4%ce%ac%ce%ba%ce%b7%cf%82-%cf%86%ce%b1%ce%bd%cf%84%ce%ac%cf%83%ce%bc%ce%b1%cf%84%ce%b1-%cf%84%ce%b7%cf%82-%ce%b2%ce%b5/
LOCATION:Φορτέτζα
CATEGORIES:ΑΤΖΕΝΤΑ
ATTACH;FMTTYPE=image/jpeg:https://hxosfm.gr/wp-content/uploads/poster_ekthesi_web-scaled.jpg
END:VEVENT
END:VCALENDAR