BEGIN:VCALENDAR
VERSION:2.0
PRODID:-//ΗΧΟΣ FM  94.2 Μουσικό Ραδιόφωνο - ECPv6.15.12.2//NONSGML v1.0//EN
CALSCALE:GREGORIAN
METHOD:PUBLISH
X-ORIGINAL-URL:https://hxosfm.gr
X-WR-CALDESC:Events for ΗΧΟΣ FM  94.2 Μουσικό Ραδιόφωνο
REFRESH-INTERVAL;VALUE=DURATION:PT1H
X-Robots-Tag:noindex
X-PUBLISHED-TTL:PT1H
BEGIN:VTIMEZONE
TZID:Europe/Athens
BEGIN:DAYLIGHT
TZOFFSETFROM:+0200
TZOFFSETTO:+0300
TZNAME:EEST
DTSTART:20220327T010000
END:DAYLIGHT
BEGIN:STANDARD
TZOFFSETFROM:+0300
TZOFFSETTO:+0200
TZNAME:EET
DTSTART:20221030T010000
END:STANDARD
BEGIN:DAYLIGHT
TZOFFSETFROM:+0200
TZOFFSETTO:+0300
TZNAME:EEST
DTSTART:20230326T010000
END:DAYLIGHT
BEGIN:STANDARD
TZOFFSETFROM:+0300
TZOFFSETTO:+0200
TZNAME:EET
DTSTART:20231029T010000
END:STANDARD
BEGIN:DAYLIGHT
TZOFFSETFROM:+0200
TZOFFSETTO:+0300
TZNAME:EEST
DTSTART:20240331T010000
END:DAYLIGHT
BEGIN:STANDARD
TZOFFSETFROM:+0300
TZOFFSETTO:+0200
TZNAME:EET
DTSTART:20241027T010000
END:STANDARD
END:VTIMEZONE
BEGIN:VEVENT
DTSTART;TZID=Europe/Athens:20230615T100000
DTEND;TZID=Europe/Athens:20230915T200000
DTSTAMP:20260424T121558
CREATED:20230702T172350Z
LAST-MODIFIED:20230702T172350Z
UID:62782-1686823200-1694808000@hxosfm.gr
SUMMARY:Έκθεση 'Η Επανάσταση στην Κρήτη χορεύεται'
DESCRIPTION:Ημερ/νίες\n15/06/2023 – 15/09/2023 ώρα 10:00-20:00\n\n\nΤοποθεσία\nΘόλος Ιμπραήμ Χαν\, Ρέθυμνο\n\n\n\n 
URL:https://hxosfm.gr/event/%ce%ad%ce%ba%ce%b8%ce%b5%cf%83%ce%b7-%ce%b7-%ce%b5%cf%80%ce%b1%ce%bd%ce%ac%cf%83%cf%84%ce%b1%cf%83%ce%b7-%cf%83%cf%84%ce%b7%ce%bd-%ce%ba%cf%81%ce%ae%cf%84%ce%b7-%cf%87%ce%bf%cf%81%ce%b5%cf%8d%ce%b5/
LOCATION:Θόλος Ιμπραήμ Χαν
CATEGORIES:ΑΤΖΕΝΤΑ
ATTACH;FMTTYPE=image/jpeg:https://hxosfm.gr/wp-content/uploads/afisa_33x49-scaled.jpg
END:VEVENT
BEGIN:VEVENT
DTSTART;TZID=Europe/Athens:20230623T193000
DTEND;TZID=Europe/Athens:20230808T220000
DTSTAMP:20260424T121558
CREATED:20230618T114407Z
LAST-MODIFIED:20230618T114407Z
UID:62713-1687548600-1691532000@hxosfm.gr
SUMMARY:Ομοιόστασις | Homeostasis: Maelee Lee
DESCRIPTION:Ομοιόστασις | Homeostasis: Maelee Lee\nΕπιμέλεια: Θάλεια Βραχοπούλου\nΑίθουσα Πυροβολικού\, Φορτέτσα – Ρέθυμνο\nΕγκαίνια: Παρασκευή\, 23 Ιουνίου 2023\, 19:30\n\nΤο Μουσείο Σύγχρονης Τέχνης Κρήτης με χαρά παρουσιάζει την έκθεση Maelee Lee: Homeostasis\, σε επιμέλεια της Dr. Θάλειας Βραχοπούλου. Η έκθεση εγκαινιάζεται στις 23 Ιουνίου\, με ώρα έναρξης στις 7:30 μ.μ.\, στο Κτήριο Πυροβολικού\, στη Φορτέτσα Ρεθύμνου.\n\nΟ όρος «ομοιόσταση» περιγράφει την ενδόμυχη λειτουργία μίας μορφής ζωής (life form)\, μέσω της οποίας\, ο ζωντανός οργανισμός συντηρεί τις εσωτερικές του συνθήκες\, σταθερές και όμοιες\, ανεξάρτητα από όλες τις εξωτερικές μεταβολές. Η ομαλή διατήρηση της θερμοκρασίας του σώματος\, η συγκέντρωση της γλυκόζης στο αίμα\, όπως και η ρύθμιση της οξύτητάς (pH) του\, αποτελούν πολύτιμα εργαλεία\, δικλείδες ασφαλείας και βιολογικούς θερμοστάτες\, μέσω των οποίων\, προστατεύεται η εύθραυστη υγεία ενός ζωντανού όντος. Παρομοίως\, η φιλοσοφική ιδέα ότι ο πλανήτης μας συνιστά έναν ζωντανό οργανισμό\, ο οποίος ενέχει ομοίως μία «ψυχή»\, τη γνωστή «anima mundi»\, υπάρχει ήδη στον Πλάτωνα\, ή στον Στωικισμό\, ενώ η ίδια σκέψη επανέρχεται ξανά σήμερα\, διαφορετικά εκφρασμένη ως «the Gaia Hypothesis»\, ή «Gaia Principle».\n\nΟ James Lovecock\, στο βιβλίο του\, «The Vanishing Face of Gaia: A Final Warning» την ορίζει ως εξής: «μία αντίληψη της Γης που εισήχθη τη δεκαετία του ‘80 και τη βλέπει ως ένα αυτορρυθμιζόμενο σύστημα που αποτελείται από το σύνολο των οργανισμών\, τα επιφανειακά πετρώματα\, τον ωκεανό και την ατμόσφαιρα\, στενά συνδεδεμένα μεταξύ τους ως ένα εξελισσόμενο σύστημα. Η θεωρία αναφέρει ότι αυτό το σύστημα έχει έναν στόχο – τη ρύθμιση των επιφανειακών συνθηκών έτσι ώστε να είναι όσο το δυνατόν πιο ευνοϊκές για τη ζωή».\n\nΈτσι\, η Γη περιέχει ομοίως τη δική της ομοιοστατική λειτουργία\, η οποία φροντίζει πυρετωδώς να διατηρήσει ομαλά το πολύτιμο φαινόμενο της «ζωής» έναντι των «βλαβερών» ανθρώπινων\, και μη-ανθρώπινων παθογενειών. Ο κτηνώδης χωρισμός του πλανήτη σε αντιμαχόμενα κράτη-έθνη\, ο επικείμενος κίνδυνος των ατομικών όπλων\, ή ενός επερχόμενου πυρηνικού ολοκαυτώματος\, όπως και η διαφαινόμενη άνοδος της τεχνητής νοημοσύνης εν μέσω παγκόσμιων οικονομικών\, πολιτικών\, τεχνολογικών και πολιτιστικών «συγκρούσεων»\, ή οι αδυσώπητες καταστροφές μιας ασταμάτητης κλιματικής αλλαγής συνιστούν έναν τρομερό κίνδυνο για την εξισορροπητική δραστηριότητα ολόκληρου του πλανήτη\, καθώς και για τις πολλές κοινωνικές δομές\, οι οποίες σιγά σιγά αποδομούνται ένεκα της ισχνής τους ανικανότητας να συγκρατήσουν τις αντικρουόμενες ορμές μίας μαινόμενης ανθρωπότητας.\n\nΤα πολυσύνθετα έργα της Lee Mae Lee\, από τη σειρά “Homeostasis”\, επιλεκτικά εμποτισμένα με έναν οπτικό και υλικό «μαξιμαλισμό»\, παρόμοιο με τα έργα του Vik Muniz\, εκφράζουν εξαιρετικά την αβάσταχτη ανησυχία για μία χαμένη «ομοιόσταση» ενός άρρωστου πλανήτη-οργανισμού: μία σύγχρονη\, ακτιβιστική «Κραυγή» κατά των νοσοφόρων συνθηκών\, οι οποίες καταστρέφουν τη λεπτεπίλεπτη ισορροπία της Γης\, αλλά και ένα μοντέρνο\, θριαμβευτικό «memento mori» σε σχέση με την ατέρμονη ρευστότητα όλων των πραγμάτων\, ή όπως η Lee Mae Lee δηλώνει: «To έργο μου αφορά στο οντολογικό ζήτημα\, δηλαδή στα ερωτηματικά για τη ζωή και τον θάνατο καθώς και στη δημιουργία και την εξαφάνιση των λαών και των εθνών. Ξεκινά από το ζήτημα της οργανικής σχέσης μεταξύ της ανόδου και της παρακμής διαφόρων εθνών και της αντικατάστασης των λαών\, της ιστορίας του πολιτισμού που έχει επαναλάβει τον κύκλο ολόκληρου του ανθρώπινου είδους και του πεπερασμένου της ζωής».\n\nΠρόκειται για μία μεγάλη εγκατάσταση που τοποθετείται στους δύο ορόφους του Βενετσιάνικου Πυροβολικού στη Φορτέτσα του Ρεθύμνου\, η οποία αναπτύσσεται με τη συμμετοχή πρωτογενών και έντεχνων υλικών.\n\nΗ διάρκεια της έκθεσης θα είναι από τις 23 Ιουνίου έως τις 8 Αυγούστου 2023.
URL:https://hxosfm.gr/event/%ce%bf%ce%bc%ce%bf%ce%b9%cf%8c%cf%83%cf%84%ce%b1%cf%83%ce%b9%cf%82-homeostasis-maelee-lee/
LOCATION:Φορτέτζα
CATEGORIES:ΑΤΖΕΝΤΑ
ATTACH;FMTTYPE=image/jpeg:https://hxosfm.gr/wp-content/uploads/cast.jpg
END:VEVENT
BEGIN:VEVENT
DTSTART;TZID=Europe/Athens:20230704T190000
DTEND;TZID=Europe/Athens:20230710T233000
DTSTAMP:20260424T121558
CREATED:20230704T082419Z
LAST-MODIFIED:20230704T082419Z
UID:62813-1688497200-1689031800@hxosfm.gr
SUMMARY:Γιορτή Κρητικής διατροφής
DESCRIPTION:ΓΙΟΡΤΗ ΚΡΗΤΙΚΗΣ ΔΙΑΤΡΟΦΗΣ 2023 \nΠΡΟΓΡΑΜΜΑ ΕΚΔΗΛΩΣΕΩΝ \nΤρίτη 04/07 – Έναρξη \n19:00-23:00 Έκθεση τοπικών προϊόντων. \n19:00-23:00 IDAology Το Ποιμενικό βίωμα και γενικότερα η άυλη πολιτιστική κληρονομιά στις κοινότητες της Ίδας\, του σημερινού Ψηλορείτη μέσω  εφαρμογής  επαυξημένης πραγματικότητας.  Μέσα από τεχνολογίες εικονικής και επαυξημένης πραγματικότητας\, επιτυγχάνεται  βιωματική εμπειρία στο χωροχρόνο\, τοποθετώντας το χρήστη μεμονωμένα στο «φυσικό» χώρο και χρόνο όπου διαδραματίζεται ένα δρώμενο\, προσδίδοντας οπτικά και ηχητικά ερείσματα με χρήση συσκευών ατομικής θέασης. \n19:00 – 19:30 Συναυλία της Φιλαρμονικής Ορχήστρας του Δήμου Ρεθύμνης. \n19:30 – 20:00 Τέλεση Αγιασμού από τον Μητροπολίτη Ρεθύμνης και Αυλοποτάμου κ.κ. Πρόδρομο. Καλωσόρισμα από τον Αντιδήμαρχο Πολιτισμού\, Ψηφιακού Μετασχηματισμού και Κυκλοφοριακών Θεμάτων του Δήμου Ρεθύμνης κ. Θωμά Κρεβετζάκη. Χαιρετισμοί από επίσημους προσκεκλημένους και εκπροσώπους φορέων. \n20:30 – 21:30 Παρουσίαση της κουζίνας  της περιοχής του Μυλοποτάμου  με χαρακτηριστικές παραδοσιακές συνταγές  – αντικριστό\, τσιγαριαστό και χαρούπι παγωτό. \n21:30 – 22:00 Κρητική μουσική και χοροί από τον Όμιλο Βρακοφόρων Κρήτης με το μουσικό συγκρότημα του Βαγγέλη Γκαλονάκη. \n22:00   Συναυλία Κρητικής Μουσικής με τον Γιώργη Φασουλά στη λύρα\, τον Κώστα Καλλέργη στο λαούτο και το συγκρότημά τους. \n  \nΤετάρτη 05/07 \n19:00 – 23:00 Έκθεση τοπικών προϊόντων. \n19:00 – 20:30 «Η Ελιά». Εργαστήριο παρασκευής ελιόψωμου για παιδιά από το Κέντρο Κρητικής Γαστρονομίας της Περιφέρειας Κρήτης\, με την Αντωνία Σταθάκη\, Υπεύθυνη του Κέντρου. \n20:00 – 21:00: Παρουσίαση της κουζίνας  της περιοχής του Αγίου Βασιλείου  με χαρακτηριστικές παραδοσιακές συνταγές  και τοπικών προϊόντων. \n21:00 – 21:30 Κρητική μουσική και χοροί από τον παραδοσιακό Σύλλογο «ΑΚΡΗΤΕΣ» και το μουσικό συγκρότημα του Γιώργου Αλεξαντωνάκη. \n21:30: Συναυλία με τον Κωστή Μαραβέγια. \nΟ Κωστής Μαραβέγιας ανοίγει και φέτος το καλοκαίρι με ένα πάρτι\, μια γιορτή χαράς\, συγκίνησης\, χορού και τραγουδιού\, με τον τρόπο που μόνον εκείνος ξέρει τόσο καλά! Όλοι μαζί\, στο πιο όμορφο σημείο της πόλης. Ορμώμενος από το στούντιο με το τραγούδι «ΞΕΧΑΣΜΕΝΗ ΕΝΗΛΙΚΙΩΣΗ» αλλά και το νέο του album\, με όλα τα αγαπημένα μας τραγούδια από τη δισκογραφία του\, αλλά και με δικά του αγαπημένα\, που διασκευάζει και τραγουδά\, επιστρέφει για να γίνουμε όλοι μέρος μιας συναυλίας – γιορτής\, γεμάτης με μια διάχυτη διάθεση αντίστασης στον αρνητισμό\, την αγωνία και την αβεβαιότητα της καθημερινότητας. Για να θυμηθούμε\, να γελάσουμε\, να συγκινηθούμε και πάνω από όλα να φύγουμε στο τέλος της βραδιάς πιο χαρούμενοι και πιο ανάλαφροι! \n  \nΠέμπτη 06/07 \n19:00-23:00: Έκθεση τοπικών προϊόντων. \n19:00 – 20:30 Αφιέρωμα στο Ζαχαροπλαστείο Κανακάκη. Παρουσίαση αφιερώματος από τον Μάνο Χ. Γοργοράπτης\, βασισμένο στο βιβλίο του «Ρέθεμνος \, Σημεία των Καιρών 3»\, Ρέθυμνο 2021. Κέρασμα από το ζαχαροπλαστείο. \n20:00 – 21:00 Αφιέρωμα στην Μοναστηριακή Κουζίνα της Κρήτης. Παρουσίαση παραδοσιακού μοναστηριακού φαγητού «Σουπιές με Μάραθο και Σπανάκι» από τον Αιδεσιμότατο Πρωτοπρεσβύτερο π. Παναγιώτη Παπαδάκη της ενορίας Παγκαλοχωρίου. \n21:00 – 21:30  Κρητική μουσική και χοροί από την Σχολή Χορού «ΚΑΜΑΡΙΤΗΣ» και το μουσικό συγκρότημα του Κώστα Ανδρεδάκη και Μανόλη Κατσαμά. \n21:30 Συναυλία με την Αργυρώ Καπαρού και την Ερωφίλη  \n“Από την Nouvelle Vague … στο Νέο Κύμα”.  Ένα αφιέρωμα στους δημιουργούς του νέου κύματος  \nΔύο σημαντικές ερμηνεύτριες\, η Ερωφίλη και η Αργυρώ Καπαρού\, θα αποδώσουν με το ξεχωριστό χρώμα της φωνής τους τραγούδια\, ενώ η ηθοποιός Άννα Ψαρρά θα αφηγείται – με σύντομα κείμενα ανάμεσα από τα τραγούδια – το Χρονικό του Νέου Κύματος και τη δράση των δημιουργών του. Συνθέτες όπως οι : Γιάννης Σπανός\, Λάκης Παππάς\, Νότης Μαυρουδής\, Διονύσης Σαββόπουλος\, Λίνος Κόκοτος και άλλοι\, άφησαν εκείνη την περίοδο – πριν τα μέσα της δεκαετίας του ΄60 – στο ελληνικό ρεπερτόριο σημαντικά τραγούδια που αγαπήθηκαν πολύ\, ενώ παράλληλα επανασύστησαν με αυτό τον τρόπο στο κοινό την ελληνική ποίηση και τους ποιητές μας. \nΟ συνθέτης Κώστας Γιαννάκης\, θα συνοδεύσει τις ερμηνεύτριες\, με τον ίδιο λιτό τρόπο που επιβάλλει αυτό το είδος. \n  \nΠαρασκευή 07/07 \n19:00 – 23:00 Έκθεση τοπικών προϊόντων \n19:00 – 20:30  «Ας μαγειρέψουμε μαζί!» – Εκδόσεις Βιβλιοσκόπιο. Διαδραστική παρουσίαση των δύο παιδικών βιβλίων «Ο Λαγουδάκος φτιάχνει πρωινό» και «Ο Αρκουδάκος πάει για πικνίκ»\, καθώς και δραστηριότητες μαγειρικής  «Φτιάχνουμε τα δικά μας υγιεινά σνακ»\, «Sensory play: τέχνη και μαγειρική» και «Μουσικοκινητική και ψυχοκινητική γύρω από τη διατροφή». Υλοποίηση προγράμματος από την εμψυχώτρια & παιδαγωγό Έρη Μπαμιάκη. \n19:00 – 20:30 O Μανώλης Καρνιωτάκης\, παρουσιάζει τις ταβέρνες και τους ψαράδες του ενετικού λιμανιού. Μαζί του ο βραβευμένος chef και κύριος εκφραστής της υψηλής ψαροφαγίας του νησιού Χρήστος Λάπας θα μας μιλήσει για τα μυστικά των ψαριών και θα μας φτιάξει κακαβιά του καϊκιού παρέα με τους ψαράδες του λιμανιού. \n20:30 – 23:00 Βραδιά δημιουργίας κοκτέιλ. Γνωστοί Ρεθυμνιώτες mixologists\, φτιάχνουν νόστιμα\, δροσερά\, signature κοκτέιλς\, χρησιμοποιώντας κρασί\, ρακί  και άλλα ενδιαφέροντα προϊόντα της κρητικής γης. Παρουσιάζει ο Χρήστος Λάπας. \n21:00 – 21:30  Κρητική μουσική και χοροί από τον παραδοσιακό Σύλλογο «ΕΡΩΦΙΛΗ» και το μουσικό συγκρότημα του Βαγγέλη Κυμιωνή και Κλέαρχου Μανωλιούδη. \n21:30 Συναυλία με τους Marmitas ft. Sugahspank & Circus Shows. \nΤαλαντευόμενοι μεταξύ του Ray Charles και του Bruno Mars\, του Elvis και του Michael Jackson\, του Stevie Wonder και των Beatles\, της Ella Fitzgerald και της Rihanna\, οι Marmitas Band φέρνουν στη σκηνή ένα απογειωτικό cocktail ήχων soul\, r n b\, funk\, disco\, latin και hot jazz! Με μοναδικές upbeat διασκευές επιτυχιών από τα 60’s μέχρι και σήμερα\, τα live τους προσφέρουν υψηλή ενέργεια party με ασταμάτητη χορευτική διάθεση. Αποτελούνται από 7 εξαιρετικούς μουσικούς\, συμπεριλαμβανομένης της φανταστικής φωνής της Μάνιας. Όλοι μαζί θα παρουσιάσουν την εκρηκτική Sugahspank η οποία θα αναδείξει για άλλη μια φορά το σύμπαν της μαύρης μουσικής με την βαθιά φωνή και τον δικό της μοναδικό\, ανεπιτήδευτο τρόπο. \nΤο highlight της παράστασης είναι η πλαισίωση της\, με φαντασμαγορικά Circus Shows που θα εκτοξεύσουν την διάθεση\, αφήνοντας εκστασιασμένους όλους τους θεατές με έντονη αίσθηση αφύπνισης και πληρότητας! \n  \nΣάββατο 08/07 \n19:00-23:00 Έκθεση τοπικών προϊόντων. \n19:00 – 20:00 Ζαχαροπλαστική για παιδιά. Εργαστήριο παρασκευής μπισκότου με χαρούπι από τον ζαχαροπλάστη Κώστα Αναγνωστόπουλο – Εργαστήριο ζαχαροπλαστικής SABLE. \n19:00 – 21:00 Αφιέρωμα στην Κρητική Ζυθοποιεία. Ομιλία από την Μαριάννα  Καβρουλάκη\, Αρχαιολόγο – Ερευνήτρια Ιστορίας της Γαστρονομίας\, με τίτλο  «Γουλιές ιστορίας: Μπύρα». Νεολιθικά τελετουργικά και εορταστικά ποτά\, βαβυλωνιακές μπύρες\, αιγυπτιακές που συνόδευαν τους ευγενείς στο επέκεινα και έδιναν δύναμη στους εργάτες\, μπύρες τους σεληνόφωτος και άλλες που συντρόφευαν τους δυτικούς μοναχούς στην αρρώστια και στις σκληρές νηστείες\, αφηγούνται την ιστορία τους. Ένα από το παλαιότερα ποτά της αρχαιότητας\, ο δροσερός ζύθος\, δεν εφευρέθηκε αλλά ανακαλύφθηκε και είναι άρρηκτα συνδεδεμένος με την ιστορία του ανθρώπινου είδους. \nΠαρουσίαση διαδικασίας οικιακής ζυθοποίησης με μέθοδο έτοιμου kit από τους ζυθοποιούς Κώστα Παπαδάκη και Ηλία Ηλιάκη  της RETIMI CRAFT BEER.. Το kit ζυθοποίησης είναι η πιο απλή μέθοδος και το ιδανικό ξεκίνημα για έναν αρχάριο ζυθοποιό \n19:30 – 21:00 Παρουσίαση της κουζίνας της περιοχής των Ανωγείων  με χαρακτηριστικές παραδοσιακές συνταγές και προϊόντα. \n21:00 Κρητικό πρόγραμμα από τον χορευτικό Σύλλογο «ΑΡΚΑΔΙ» και το μουσικό συγκρότημα με τους Κωνσταντίνο Μαρκάκη στη λύρα\, Νεκτάριο Μαρκάκη και Γιάννη Γανταδάκη στο λαούτο. \n21:30 Συναυλία με το συγκρότημα Gadjo Dilo. \n  \nΟι Gadjo Dilo παντρεύουν την τσιγγάνικη jazz παράδοση – εμπνευσμένοι από τον θρυλικό κιθαρίστα της gypsy swing Django Reinhardt – με αγαπημένα ελληνικά τραγούδια κυρίως της σκηνής του ’50 και ’60\, δημιουργώντας το δικό τους μοναδικό μουσικό στυλ\, το “Manouche De Grec”. Με αφετηρία τους δύο αυτούς μουσικούς πολιτισμούς και με πειραματισμούς πάνω σε μεταγενέστερους ήχους της jazz\, το συγκρότημα παρουσιάζει ένα πρόγραμμα με έντονο το “Ελληνικό” στοιχείο αλλά και με αναφορές στα αμερικανικά jazz standards και τα γαλλικά τραγούδια του μεσοπολέμου. Το πάθος των Gadjo Dilo παρασύρει κάθε φορά το κοινό να χορέψει και να τραγουδήσει μαζί τους. Αυτοσχεδιάζουν\, πειραματίζονται και με τραγούδια μιας άλλης εποχής\, μας μεταφέρουν μηνύματα σύγχρονα και ελπιδοφόρα! \nΚυριακή 09/07 \n19:00-23:00  Έκθεση τοπικών προϊόντων. \n19:00 – 20:30 «Η τροπική Κρήτη». Το αβοκάντο στην ζαχαροπλαστική. Παιδικό εργαστήρι παρασκευής σοκολατένιας μους με βάση το αβοκάντο από την εκπαιδευτικό Κατερίνα Γιαννοπούλου. \n19:00 – 20:00 Ο Δημήτρης Σκουρογιάννης θα παρουσιάσει το ερευνητικό έργο βιωματικών δημιουργικών εργαστηρίων\, που αφορούν στην τοπική αγροτική παραγωγή και μεταποίηση κάθε είδους\, σε συνδυασμό με νέες προσεγγίσεις στη λαογραφική-πολιτισμική παράδοση\, για μελλοντική ανάπτυξη στο πνεύμα της κυκλικής οικονομίας. \n19:00 – 21:00 Υλοποίηση σεμιναρίου “Traditional Drink Pairing – Cretan Tsikoudia”. Στο Drink Pairing θα συνδυάσουμε την Τσικουδιά Κρήτης και επιλεγμένα Λικέρ με το κατάλληλο φαγητό για να απογειώσει την γεύση του ποτού. Οι Παραδοσιακές Κρητικές συνταγές σε συνδυασμό με το Κρητικό Απόσταγμα θα μας φέρουν πιο κοντά στη Γαστρονομία και στην Κουλτούρα της Κρήτης. Μέσα από το πρόγραμμα\, οι συμμετέχοντες θα αποκτήσουν μια βαθύτερη κατανόηση της κρητικής γαστρονομίας και κουλτούρας και θα ανακαλύψουν τρόπους ανάδειξης των γεύσεων των τοπικών προϊόντων. Εισηγητής θα είναι ο Γιώργος Νικηφόρος CeoandFounder του ByRakiflavor. \n21:00 – 21:30  Κρητική μουσική και χοροί από τον παραδοσιακό Σύλλογο «ΚΡΗΤΕΣ» και το μουσικό συγκρότημα του Δημήτρη Κεραμνιανάκη και Στέλιου Στελιουδάκη. \n21:30  Συναυλία με τον Σταύρο Σιόλα. \nΟ Σταύρος Σιόλας\, ένας καταξιωμένος τραγουδοποιός και τραγουδιστής\, με παραδοσιακή μουσική ρίζα αλλά και με σύγχρονη αισθητική\, μια φωνή με ξεχωριστή χροιά κι έντονα προσωπικό στίγμα\, δίνει μια παράσταση που αντλεί την έμπνευσή της από την παράδοση\, τον λυρισμό και την σύγχρονη ελληνική τραγουδοποιία. Παρουσιάζει επί σκηνής γνωστά του τραγούδια όπως ΤΗΣ ΑΡΝΗΣ ΤΟ ΝΕΡΟ\, τα ΔΙΟΔΙΑ\, το ΚΑΘΕ ΦΟΡΑ\, ΤΟ ΧΩΡΙΣ ΕΣΕΝΑ\, τον ΓΕΡΟΠΛΑΤΑΝΟ αλλά και τραγούδια από την πρόσφατη δισκογραφική του δουλειά «Φωνές θιάσου» όπως το ΣΑΝ ΧΟΥΑΝ κ.α. Μια παράσταση-οδοιπορικό σε ένα ευρύ φάσμα του ελληνικού τραγουδιού με όλη την μαγεία και την περιπέτεια ενός αναπάντεχου ταξιδιού. \nΔευτέρα 10/07 – Λήξη \n19:00-23:00  Έκθεση τοπικών προϊόντων. \n19:00-23:00 IDAology Το Ποιμενικό βίωμα και γενικότερα η άυλη πολιτιστική κληρονομιά στις κοινότητες της Ίδας\, του σημερινού Ψηλορείτη μέσω  εφαρμογής  επαυξημένης πραγματικότητας.  Μέσα από τεχνολογίες εικονικής και επαυξημένης πραγματικότητας\, επιτυγχάνεται  βιωματική εμπειρία στο χωροχρόνο\, τοποθετώντας το χρήστη μεμονωμένα στο «φυσικό» χώρο και χρόνο όπου διαδραματίζεται ένα δρώμενο\, προσδίδοντας οπτικά και ηχητικά ερείσματα με χρήση συσκευών ατομικής θέασης. \n19:00 – 20:30 Αφιέρωμα στο Ζαχαροπλαστείο Σκαρτσιλάκη. Παρουσίαση  από τον Μάνο Χ. Γοργοράπτη\, βασισμένο στο βιβλίο του «Ρέθεμνος\, Σημεία των Καιρών 2»\, Ρέθυμνο 2018. \nΚέρασμα παγωτού – παγωτατζίδικο από τον Δημήτρη Σκαρτσιλάκη. Κέρασμα «παστάκι σε ποτηράκι» από τον Νίκο Σκαρτσιλάκη. \n19:00 – 20:00 Τα Κρητικά Βότανα και τα ενδημικά φαρμακευτικά φυτά της Κρήτης. Το νησί μας και ιδιαίτερα  ο νομός μας\, με την μεγάλη βιοποικιλότητα και ποικιλία μικροκλιμάτων αποτελεί ένα ιδιαίτερο φυτο-γεωγραφικό διαμέρισμα\, όπου απαντώνται μια πλούσια αυτοφυή βλάστηση και μια ποικίλη χλωρίδα. Η έκδηλη και καταστρεπτική επίδραση ανθρώπων και ζώων επί της Κρητικής βλάστησης\, οδηγεί τους πληθυσμούς των αρωματικών και φαρμακευτικών φυτών σταδιακά προς εξαφάνιση. Αναφορά στα σημαντικότερα αρωματικά και φαρμακευτικά φυτά στα οποία είναι γνωστές οι πολύτιμες χημικές τους ενώσεις  ή τα συστατικά τους.  Παρουσίαση από τον Γιώργο Νταγκουνάκη – Γεωπόνο\,   εκπρόσωπος ΚΡΗΤΕΣ ΡΙΖΟΤΟΜΟΙ. \n  \n19:30 – 21:00 Παρουσίαση της κουζίνας της περιοχής του Αμαρίου με χαρακτηριστικές παραδοσιακές συνταγές. \n21:00 – 21:30  Κρητική μουσική και χοροί από τον παραδοσιακό σύλλογο «ΧΟΡΟΚΡΗΤΕΣ» και το μουσικό συγκρότημα του Πέτρου Μαρούλη. \n21:30 Συναυλία με το συγκρότημα Vamos Ensemble  “Τα Ερωτικά Παντός Καιρού” \nΟ έρωτας αποτελούσε πάντα το κύριο θέμα στο περιεχόμενο όλων των μορφών έκφρασης της Τέχνης\, χωρίς να αποτελέσει εξαίρεση η μουσική. Το Μουσικό Σύνολο Vamos Ensemble δημιούργησε μια σπονδυλωτή παράσταση με τέσσερις μουσικές θεματικές ενότητες\, με κοινό χαρακτηριστικό τον έρωτα. Χατζηδάκης – Ρετρό – Ρεμπέτικα – Σύγχρονα. Το Vamos Ensemble – ένα σύνολο ερασιτεχνών και επαγγελματιών μουσικών με κοινές καλλιτεχνικές αναζητήσεις και αγάπη για τη μουσική και τη σύμπραξη. Ένα πολυμελές σχήμα\, με όψη και σύνθεση συμφωνικής ορχήστρας που έχει τη δυνατότητα να προσεγγίζει ιδιώματα και να ερμηνεύει μουσικές από όλο τον κόσμο\, μέσα από τον πολύ ιδιαίτερο «προσωπικό» του ήχο.
URL:https://hxosfm.gr/event/%ce%b3%ce%b9%ce%bf%cf%81%cf%84%ce%ae-%ce%ba%cf%81%ce%b7%cf%84%ce%b9%ce%ba%ce%ae%cf%82-%ce%b4%ce%b9%ce%b1%cf%84%cf%81%ce%bf%cf%86%ce%ae%cf%82/
LOCATION:Δημοτικός Κήπος\, Ρέθυμνο
CATEGORIES:ΑΤΖΕΝΤΑ
ATTACH;FMTTYPE=image/jpeg:https://hxosfm.gr/wp-content/uploads/ΑΦΙΣΑ-2023.jpg
END:VEVENT
BEGIN:VEVENT
DTSTART;TZID=Europe/Athens:20230709T200000
DTEND;TZID=Europe/Athens:20230709T233000
DTSTAMP:20260424T121558
CREATED:20230702T175530Z
LAST-MODIFIED:20230702T175625Z
UID:62804-1688932800-1688945400@hxosfm.gr
SUMMARY:Παντ. Θαλασσινός - Γ. Καζαντζής - Κ. Φασουλάς live
DESCRIPTION:Παρουσίαση δίσκου\n«Αινίγματα»\nΠαντελής Θαλασσινός\, Γιώργος Καζαντζής\, Κώστας Φασουλάς\n\nΟ Παντελής Θαλασσινός\, ο Γιώργος Καζαντζής και ο Κώστας Φασουλάς\, παρουσιάζουν ολοκληρωμένο τον νέο δίσκο τους\, με τίτλο «Αινίγματα».\nΈχει προηγηθεί η επιτυχημένη κυκλοφορία των τραγουδιών\, προπομπών του νέου album\, «Οι Δείκτες» και «Τα Ξένα» με τη συμμετοχή του Δημήτρη Ζερβουδάκη.\nΗ παρουσίαση θα γίνει την Κυριακή 9 Ιουλίου στο «Αγροτικό δισκοπωλείο» στα Σίσαρχα στις 20:00.\nΣτην εκδήλωση θα ακουστούν ζωντανά τα τραγούδια του δίσκου καθώς και τραγούδια από τη δισκογραφία των δημιουργών.\nΤην ορχήστρα αποτελούν ο Παντελής Θαλασσινός στην κιθάρα\, ο Γιώργος Καζαντζής στο πιάνο και ο Νίκος Μέρμηγκας στο μπουζούκι και λαούτο.\nΣας περιμένουμε !!\nΓια κρατήσεις & πληροφορίες:\n6980976609-2834020339-2810225758
URL:https://hxosfm.gr/event/%cf%80%ce%b1%ce%bd%cf%84-%ce%b8%ce%b1%ce%bb%ce%b1%cf%83%cf%83%ce%b9%ce%bd%cf%8c%cf%82-%ce%b3-%ce%ba%ce%b1%ce%b6%ce%b1%ce%bd%cf%84%ce%b6%ce%ae%cf%82-%ce%ba-%cf%86%ce%b1%cf%83%ce%bf%cf%85%ce%bb/
LOCATION:Αγροτικό δισκοπωλείο\, Σεισαρχα\, Ρέθυμνο
CATEGORIES:ΑΤΖΕΝΤΑ
ATTACH;FMTTYPE=image/jpeg:https://hxosfm.gr/wp-content/uploads/thalassinos.jpg
END:VEVENT
BEGIN:VEVENT
DTSTART;TZID=Europe/Athens:20230709T210000
DTEND;TZID=Europe/Athens:20230709T230000
DTSTAMP:20260424T121558
CREATED:20230702T172106Z
LAST-MODIFIED:20230702T172106Z
UID:62776-1688936400-1688943600@hxosfm.gr
SUMMARY:Η 'Τοσοδούλα' του Άρη Αρμάου
DESCRIPTION:Βασισμένο στο τρυφερό παραμύθι του Hans Christian Andersen. \nΗμερομηνία παράστασης: Κυριακή 9 Ιουλίου 2023\, στο Θέατρο “Ερωφίλη” Φορτέτζα στις 21.00 \n  \nΈνας ύμνος στη μητρότητα… \nΤο τρυφερό παραμύθι του Hans Christian Andersen\, που εκθειάζει τη μητρότητα και την αγάπη της μάνας. \nΈνα θεατρικό έργο που μιλαει για το ταξίδι της ζωής\, τη μοναξιά της τρίτης ηλικίας\, το bullying και τη διαφορετικότητα. \nΜια φαντασμαγορική θεατρική παράσταση γεμάτη συναισθήματα που θα μαγέψει μικρούς και μεγάλους και θα τους ταξιδέψει στον μικρόκοσμο της Τοσοδουλας. \n  \n– Όλα τα εισιτήρια στην τιμή της προπώλησης. Γενική είσοδος 8€ \n  \nΠροπώληση: \nστο Viva.gr \nhttps://www.viva.gr/tickets/theater/tosodoula-tou-ari-armaou/ \nΚιόσκι Πλατείας 4ων Μαρτύρων\, Ρέθυμνο \nΤηλ. επικοινωνίας και κρατήσεων: 6949160175 \n 
URL:https://hxosfm.gr/event/%ce%b7-%cf%84%ce%bf%cf%83%ce%bf%ce%b4%ce%bf%cf%8d%ce%bb%ce%b1-%cf%84%ce%bf%cf%85-%ce%ac%cf%81%ce%b7-%ce%b1%cf%81%ce%bc%ce%ac%ce%bf%cf%85/
LOCATION:Θέατρο Ερωφίλη\, Λόφος Φορτέτζα\, Ρέθυμνο
CATEGORIES:ΑΤΖΕΝΤΑ
ATTACH;FMTTYPE=image/png:https://hxosfm.gr/wp-content/uploads/tosodoyla.png
END:VEVENT
BEGIN:VEVENT
DTSTART;TZID=Europe/Athens:20230709T213000
DTEND;TZID=Europe/Athens:20230709T233000
DTSTAMP:20260424T121558
CREATED:20230702T174508Z
LAST-MODIFIED:20230702T174508Z
UID:62800-1688938200-1688945400@hxosfm.gr
SUMMARY:Η Ιουλία Καραπατάκη στις Μαργαρίτες Μυλοποτάμου
DESCRIPTION:Η χαμογελαστή και γεμάτη θετική ενέργεια Ιουλία\, μετά τις sold out εμφανίσεις στην Αθήνα αλλά και στην επαρχία τον Χειμώνα έρχεται μαζί με την μπάντα της στις Μαργαρίτες Μυλοποτάμου \, στις 9 Ιουλίου 2023!\n\nΥπόσχεται να μας παρασύρει με τραγούδια που όλοι έχουμε αγαπήσει και τα έχουμε συνδέσει με ξεχωριστές αναμνήσεις!\n\nΤο πρόγραμμα που έχει επιλέξει – με σεβασμό\, πολλή αγάπη και μεράκι – δείχνει τον τρόπο που επικοινωνεί τις σκέψεις και τα συναισθήματα της.\nΘα ακούσουμε διασκευές\, παραδοσιακά\, έντεχνα και παλιά λαϊκά τραγούδια\,ενώ δείγματα της νέας της δουλειάς είναι το χιλιοτραγουδισμένο «Της μνήμης το μαχαίρι» σε στίχους Δημήτρη Μπάκουλη και μουσική Άγη Παπαπαναγιώτου\, αλλά και το «Τακούνια για καρφιά» του Ορέστη Ντάντου.\n\nΜαζί της:\nΆγης Παπαπαναγιώτου: κιθάρες\, φωνή\nΚαλογιάννης Βεράνης: βιολί\, τρομπέτα\, φωνή\nΆρης Κονιδάρης: πλήκτρα\nΜιχάλης Δάρμας: κοντραμπάσο\nΚώστας Σπυράτος: τύμπανα\nΧρήστος Αναστασιάδης: Γκάιντα\, κλαρίνο\nΜανώλης Κουταλίδης: ηχοληψία\nΠροπώληση εισιτηρίων :\nYellow Brunch Cafe \,Κουντουριότου 200 Ρέθυμνο.\nΓραφείο Senatus\, Πέραμα Μυλοποτάμου
URL:https://hxosfm.gr/event/%ce%b7-%ce%b9%ce%bf%cf%85%ce%bb%ce%af%ce%b1-%ce%ba%ce%b1%cf%81%ce%b1%cf%80%ce%b1%cf%84%ce%ac%ce%ba%ce%b7-%cf%83%cf%84%ce%b9%cf%82-%ce%bc%ce%b1%cf%81%ce%b3%ce%b1%cf%81%ce%af%cf%84%ce%b5%cf%82-%ce%bc/
LOCATION:Μαργαρίτες\, Μυλοπόταμος\, Ρέθυμνο
CATEGORIES:ΑΤΖΕΝΤΑ
ATTACH;FMTTYPE=image/jpeg:https://hxosfm.gr/wp-content/uploads/karapataki.jpg
END:VEVENT
END:VCALENDAR