BEGIN:VCALENDAR
VERSION:2.0
PRODID:-//ΗΧΟΣ FM  94.2 Μουσικό Ραδιόφωνο - ECPv6.15.12.2//NONSGML v1.0//EN
CALSCALE:GREGORIAN
METHOD:PUBLISH
X-WR-CALNAME:ΗΧΟΣ FM  94.2 Μουσικό Ραδιόφωνο
X-ORIGINAL-URL:https://hxosfm.gr
X-WR-CALDESC:Events for ΗΧΟΣ FM  94.2 Μουσικό Ραδιόφωνο
REFRESH-INTERVAL;VALUE=DURATION:PT1H
X-Robots-Tag:noindex
X-PUBLISHED-TTL:PT1H
BEGIN:VTIMEZONE
TZID:Europe/Athens
BEGIN:DAYLIGHT
TZOFFSETFROM:+0200
TZOFFSETTO:+0300
TZNAME:EEST
DTSTART:20220327T010000
END:DAYLIGHT
BEGIN:STANDARD
TZOFFSETFROM:+0300
TZOFFSETTO:+0200
TZNAME:EET
DTSTART:20221030T010000
END:STANDARD
BEGIN:DAYLIGHT
TZOFFSETFROM:+0200
TZOFFSETTO:+0300
TZNAME:EEST
DTSTART:20230326T010000
END:DAYLIGHT
BEGIN:STANDARD
TZOFFSETFROM:+0300
TZOFFSETTO:+0200
TZNAME:EET
DTSTART:20231029T010000
END:STANDARD
BEGIN:DAYLIGHT
TZOFFSETFROM:+0200
TZOFFSETTO:+0300
TZNAME:EEST
DTSTART:20240331T010000
END:DAYLIGHT
BEGIN:STANDARD
TZOFFSETFROM:+0300
TZOFFSETTO:+0200
TZNAME:EET
DTSTART:20241027T010000
END:STANDARD
END:VTIMEZONE
BEGIN:VEVENT
DTSTART;TZID=Europe/Athens:20230615T100000
DTEND;TZID=Europe/Athens:20230915T200000
DTSTAMP:20260424T071235
CREATED:20230702T172350Z
LAST-MODIFIED:20230702T172350Z
UID:62782-1686823200-1694808000@hxosfm.gr
SUMMARY:Έκθεση 'Η Επανάσταση στην Κρήτη χορεύεται'
DESCRIPTION:Ημερ/νίες\n15/06/2023 – 15/09/2023 ώρα 10:00-20:00\n\n\nΤοποθεσία\nΘόλος Ιμπραήμ Χαν\, Ρέθυμνο\n\n\n\n 
URL:https://hxosfm.gr/event/%ce%ad%ce%ba%ce%b8%ce%b5%cf%83%ce%b7-%ce%b7-%ce%b5%cf%80%ce%b1%ce%bd%ce%ac%cf%83%cf%84%ce%b1%cf%83%ce%b7-%cf%83%cf%84%ce%b7%ce%bd-%ce%ba%cf%81%ce%ae%cf%84%ce%b7-%cf%87%ce%bf%cf%81%ce%b5%cf%8d%ce%b5/
LOCATION:Θόλος Ιμπραήμ Χαν
CATEGORIES:ΑΤΖΕΝΤΑ
ATTACH;FMTTYPE=image/jpeg:https://hxosfm.gr/wp-content/uploads/afisa_33x49-scaled.jpg
END:VEVENT
BEGIN:VEVENT
DTSTART;TZID=Europe/Athens:20230621T200000
DTEND;TZID=Europe/Athens:20230622T223000
DTSTAMP:20260424T071235
CREATED:20230610T180611Z
LAST-MODIFIED:20230610T180611Z
UID:62617-1687377600-1687473000@hxosfm.gr
SUMMARY:Θεατρομουσικοχορευτική παράσταση «Μεγαλώνοντας στην Κρήτη»
DESCRIPTION:Θέατρο «Ερωφίλη» Φορτέτζα – «Μεγαλώνοντας στην Κρήτη» \nΛαογραφικός Όμιλος ΧΟΡΟΚΡΗΤΕΣ \nΘεατρομουσικοχορευτική Παράσταση \nΤετάρτη 21 και Πέμπτη 22 Ιουνίου 2023 \nΏρα έναρξης 20:00 \n\nΟ Λαογραφικός Όμιλος Χοροκρήτες σας καλεί να παρακολουθήσετε τους μικρούς και μεγάλους μαθητές του να δίνουν τον καλύτερο τους εαυτό για να γίνουν οι ίδιοι άξιοι συνεχιστές της κρητικής παράδοσης. \nΘα παρουσιάσουν θεατρικά δρώμενα παρμένα από την μικρή μας καθημερινότητα\, καθώς και Παραδοσιακούς χορούς και τραγούδια της Κρήτης μας που δούλευαν όλη τη χρονιά. Στο διήμερο αυτό ο θεατής με ευκολία θα διακρίνει ότι όταν οι ομάδες βαδίζουν στα χνάρια της παράδοσης μας με σεβασμό\, ταπεινότητα αλλά και συνάμα εμπιστοσύνη στις δυνάμεις του ατόμου σαν μέλος της ομάδας\, η κοινωνία μας θα διατηρήσει το ανθρώπινο της πρόσωπο σε πείσμα των καιρών.
URL:https://hxosfm.gr/event/%ce%b8%ce%b5%ce%b1%cf%84%cf%81%ce%bf%ce%bc%ce%bf%cf%85%cf%83%ce%b9%ce%ba%ce%bf%cf%87%ce%bf%cf%81%ce%b5%cf%85%cf%84%ce%b9%ce%ba%ce%ae-%cf%80%ce%b1%cf%81%ce%ac%cf%83%cf%84%ce%b1%cf%83%ce%b7-%ce%bc/
LOCATION:Θέατρο Ερωφίλη\, Λόφος Φορτέτζα\, Ρέθυμνο
CATEGORIES:ΑΤΖΕΝΤΑ
ATTACH;FMTTYPE=image/png:https://hxosfm.gr/wp-content/uploads/horokrites.png
END:VEVENT
BEGIN:VEVENT
DTSTART;TZID=Europe/Athens:20230622T100000
DTEND;TZID=Europe/Athens:20230704T210000
DTSTAMP:20260424T071235
CREATED:20230702T173036Z
LAST-MODIFIED:20230702T173036Z
UID:62784-1687428000-1688504400@hxosfm.gr
SUMMARY:Έκθεση φωτογραφίας «Της Σαμαριάς το Πέρασμα – Το φυσικό και ανθρωπογενές κεφάλαιο του Εθνικού Δρυμού»
DESCRIPTION:Ημερ/νίες\n22/06/2023 – 14/07/2023 ώρα 10:00-14:00 & 18:00-21:00\n\n\nΤοποθεσία\nΣπίτι του Πολιτισμού\, Οδός Βερνάδου (δίπλα από το Ωδείο)\, Ρέθυμνο\n\n\nΕίσοδος\nΕλεύθερη Είσοδος\n\n\n\n  \nΣτην παλιά πόλη Ρεθύμνης θα παρουσιάζεται από τις 22 Ιουνίου ως τις 14 Ιουλίου η έκθεση φωτογραφίας «Της Σαμαριάς το Πέρασμα – Το φυσικό και ανθρωπογενές κεφάλαιο του Εθνικού Δρυμού»\, η οποία περιλαμβάνει σπάνιες εικόνες της περιοχής από την ίδρυση του Εθνικού Δρυμού Σαμαριάς έως σήμερα. \nΗ έκθεση διοργανώθηκε από τη Μονάδα Διαχείρισης Εθνικού Πάρκου Σαμαριάς και Προστατευόμενων Περιοχών Δυτικής Κρήτης του Οργανισμού Φυσικού Περιβάλλοντος και Κλιματικής Αλλαγής (ΟΦΥΠΕΚΑ)\, με αφορμή την επέτειο των 60 χρόνων ίδρυσης του Εθνικού Δρυμού και παρουσιάστηκε ήδη με επιτυχία στο Ξυλόσκαλο Ομαλού\, στα Χανιά και στο Ηράκλειο. \nΗ έκθεση φωτογραφίας επιχειρεί να αναδείξει τη σπουδαιότητα και να τονίσει την ανάγκη προστασίας ενός τόπου με μοναδική φυσική\, ιστορική και πολιτισμική αξία. Ο προστατευόμενος αίγαγρος\, οι κορυφές των Λευκών Ορέων\, η μοναδική βιοποικιλότητα\, η ζωή στο φαράγγι\, η Αγία Ρουμέλη ως τελικός προορισμός\, αποτελούν «σταθμούς» αυτού του φωτογραφικού ταξιδιού. \nΟι φωτογραφίες προέρχονται από το αρχείο της Μονάδας Διαχείρισης Εθνικού Πάρκου Σαμαριάς και Προστατευόμενων Περιοχών Δυτικής Κρήτης του ΟΦΥΠΕΚΑ\, από το αρχείο Αντώνη Πλυμάκη\, από τον Ορειβατικό Σύλλογο Χανίων\, καθώς και από πολλούς φωτογράφους ή συλλέκτες που ανταποκρίθηκαν σε σχετικό κάλεσμα του ΟΦΥΠΕΚΑ.\nΣτο Ρέθυμνο\, η έκθεση τελεί υπό την αιγίδα του Δήμου Ρεθύμνης και φιλοξενείται στο Σπίτι του Πολιτισμού\, στην παλιά πόλη (δίπλα στο Ωδείο)\, με είσοδο ελεύθερη για το κοινό\, καθημερινά 10:00-14:00 & 18:00-21:00. \nΟΦΥΠΕΚΑ\nΟ Οργανισμός Φυσικού Περιβάλλοντος και Κλιματικής Αλλαγής (Ο.ΦΥ.ΠΕ.Κ.Α.) είναι Νομικό Πρόσωπο Ιδιωτικού Δικαίου και σκοπός του είναι η εφαρμογή της πολιτικής που χαράσσει το υπουργείο Περιβάλλοντος και Ενέργειας\, με αιχμή τις βιώσιμες πρακτικές\, για τη διαχείριση των προστατευόμενων περιοχών στην Ελλάδα\, τη διατήρηση της βιοποικιλότητας\, την προώθηση και υλοποίηση δράσεων αειφόρου ανάπτυξης και την αντιμετώπιση της κλιματικής αλλαγής.\nΕποπτεύεται από το υπουργείο Περιβάλλοντος και Ενέργειας\, έχει διοικητική και οικονομική αυτοτέλεια και λειτουργεί προς όφελος του δημοσίου συμφέροντος κατά τους κανόνες της ιδιωτικής οικονομίας.
URL:https://hxosfm.gr/event/%ce%ad%ce%ba%ce%b8%ce%b5%cf%83%ce%b7-%cf%86%cf%89%cf%84%ce%bf%ce%b3%cf%81%ce%b1%cf%86%ce%af%ce%b1%cf%82-%cf%84%ce%b7%cf%82-%cf%83%ce%b1%ce%bc%ce%b1%cf%81%ce%b9%ce%ac%cf%82-%cf%84%ce%bf-%cf%80/
LOCATION:Σπίτι του πολιτισμού
CATEGORIES:ΑΤΖΕΝΤΑ
ATTACH;FMTTYPE=image/png:https://hxosfm.gr/wp-content/uploads/afisa-1.png
END:VEVENT
END:VCALENDAR