BEGIN:VCALENDAR
VERSION:2.0
PRODID:-//ΗΧΟΣ FM  94.2 Μουσικό Ραδιόφωνο - ECPv6.15.12.2//NONSGML v1.0//EN
CALSCALE:GREGORIAN
METHOD:PUBLISH
X-WR-CALNAME:ΗΧΟΣ FM  94.2 Μουσικό Ραδιόφωνο
X-ORIGINAL-URL:https://hxosfm.gr
X-WR-CALDESC:Events for ΗΧΟΣ FM  94.2 Μουσικό Ραδιόφωνο
REFRESH-INTERVAL;VALUE=DURATION:PT1H
X-Robots-Tag:noindex
X-PUBLISHED-TTL:PT1H
BEGIN:VTIMEZONE
TZID:Europe/Athens
BEGIN:DAYLIGHT
TZOFFSETFROM:+0200
TZOFFSETTO:+0300
TZNAME:EEST
DTSTART:20220327T010000
END:DAYLIGHT
BEGIN:STANDARD
TZOFFSETFROM:+0300
TZOFFSETTO:+0200
TZNAME:EET
DTSTART:20221030T010000
END:STANDARD
BEGIN:DAYLIGHT
TZOFFSETFROM:+0200
TZOFFSETTO:+0300
TZNAME:EEST
DTSTART:20230326T010000
END:DAYLIGHT
BEGIN:STANDARD
TZOFFSETFROM:+0300
TZOFFSETTO:+0200
TZNAME:EET
DTSTART:20231029T010000
END:STANDARD
BEGIN:DAYLIGHT
TZOFFSETFROM:+0200
TZOFFSETTO:+0300
TZNAME:EEST
DTSTART:20240331T010000
END:DAYLIGHT
BEGIN:STANDARD
TZOFFSETFROM:+0300
TZOFFSETTO:+0200
TZNAME:EET
DTSTART:20241027T010000
END:STANDARD
END:VTIMEZONE
BEGIN:VEVENT
DTSTART;TZID=Europe/Athens:20230317T220000
DTEND;TZID=Europe/Athens:20230317T233000
DTSTAMP:20260423T200028
CREATED:20230315T154816Z
LAST-MODIFIED:20230315T154950Z
UID:62519-1679090400-1679095800@hxosfm.gr
SUMMARY:Αποστόλης Μπαρμπαγιάννης live
DESCRIPTION:ΑΠΟΣΤΟΛΗΣ ΜΠΑΡΜΠΑΓΙΑΝΝΗΣ\nΤσολιάς εν δε Τσόλια Μπαντ! \n«Αριστεία Καπαμά» \nΠαρασκευή 17 Μαρτίου \nΑΣΤΡΟ\nΡέθυμνο  \nΟ Αποστόλης Μπαρμπαγιάννης εμφανίζεται\nστο ΑΣΤΡΟ στο Ρέθυμνο Κρήτης\nγια μία παράσταση προεκλογικού και σκανδαλοθηρικού περιεχομένου\nνα σατιρίσει τα κακώς κείμενα και υποκείμενα\,\nσε ένα Stand-Up Comedy Show με ζωντανή ορχήστρα. \nΠαρασκευή 17 Μαρτίου στο ΑΣΤΡΟ\nστο Ρέθυμνο Κρήτης \nΟ punk φουστανελάς\,\nέρχεται μεσοβδόμαδα κραδαίνοντας το εκλογικό βιβλιάριο με το ένα χέρι και\nχαϊδεύοντας αδιευκρίνιστα ποσά στην τσέπη από ρεμούλες και λίστες\nφιλοκυβερνητικής προπαγάνδας με το άλλο για ένα σατιρικό ξεμπρόστιασμα\,\nκαυτηριάζοντας και σαρκάζοντας την πολιτική επικαιρότητα\,\nκόντρα στην σαπίλα που προβάλλεται από τα κυρίαρχα μέσα. \nΜια μουσικοσατιρική παράσταση\nλοξού πολιτικού λόγου & σατιρικού τραγουδιού.\nΜια solo επιθεώρηση. Ένας προεκλογικός μονόλογος.\nΈνα βλαχομπαρόκ πολυθέαμα\, στα χρόνια μιας βλαχομπαρόκ αριστείας! \nΈνας αθυρόστομος και καυστικός μονόλογος μπλεγμένος με νότες\nπου φωνάζει όπου σταθεί κι όπου βρεθεί στον λαοπρόβλητο ηγέτη:\nΜητσοτάκη Αγαπιέσαι! \nΙνκλούντινγκ: Ιντεράξιο με το κοινό\, λάιβ φάρσες\,\nήπια αστυνόμευση\, viral σκάνδαλα\, απευθείας αναθέσεις\,\nμπαλέτα\, κρούσματα\, βύσματα\, συνθήματα\, μολότοφ και βίντεο \n(συμμετέχει ο δημοσιογράφος-ΜΑΤ: Μπαλούρδος). \nΑποστόλης Μπαρμπαγιάννης\nΤσολιάς εν δε Τσόλια Μπάντ!\n«Αριστεία Καπαμά»\nΠαρασκευή 17 Μαρτίου στο ΑΣΤΡΟ\nστο Ρέθυμνο Κρήτης \n  \nΊνφο: \nΑΠΟΣΤΟΛΗΣ ΜΠΑΡΜΠΑΓΙΑΝΝΗΣ \nΤσολιάς εν δε Τσόλια Μπαντ!\n«Αριστεία Καπαμά» \nΑΣΤΡΟ\nΡέθυμνο Κρήτης\n3ο χλμ. ΕΘΝΙΚΗΣ ΟΔΟΥ ΡΕΘΥΜΝΟΥ – ΧΑΝΙΩΝ\, 74100  \nΠαρασκευή 17 Μαρτίου \nΤιμές εισιτηρίων:\nΓενική είσοδος : 15 ευρώ\nΦοιτητικό : 10 ευρώ \nΏρα έναρξης: 22:00 \nΤηλέφωνο κρατήσεων:\n6970062500 \nΠροπώληση : \nΜΙΚΡΟ ΚΑΦΕ\nΚριάρη Κωνσταντίνου 24\, Ρέθυμνο\, 74132 (έναντι ΟΑΕΔ) \nκαι ΜΙΚΡΟ ΚΑΦΕ στα Πεταλάδικα \nΗ μεταφορά των φοιτητών θα γίνει με τα αστικά λεωφορεία του ΚΤΕΛ από όλες τις στάσεις\, από τις 21.00 και μετά \n  \nΣΥΝΤΕΛΕΣΤΕΣ: \nΚείμενα – Στίχοι – Σκηνοθεσία: Αποστόλης Μπαρμπαγιάννης \nΜαζί του\, «Δε Τσόλια Μπάντ» : \nEνορχηστρώσεις – Κιθάρες : Δημήτρης Στασινός\nΠλήκτρα: Αντώνης Παλαμάρης\nΜπάσο: Νίκος Τσιμπινός\nΤύμπανα: Τζίμης Στεργίου \nΗχοληψία: Γιώργος Κατσιάνος\nVideo: Ανδρέας Τσαντάκης\nΦωτογραφίες: Ιωάννα Σούρα\nArtwork: Κωνσταντίνος Γεωργαντάς \nΗχοληψία: Γιώργος Κατσιάνος\nVideo: Ανδρέας Τσαντάκης\nΦωτογραφίες: Ιωάννα Σούρα\nArtwork: Κωνσταντίνος Γεωργαντάς
URL:https://hxosfm.gr/event/%ce%b1%cf%80%ce%bf%cf%83%cf%84%cf%8c%ce%bb%ce%b7%cf%82-%ce%bc%cf%80%ce%b1%cf%81%ce%bc%cf%80%ce%b1%ce%b3%ce%b9%ce%ac%ce%bd%ce%bd%ce%b7%cf%82-live/
LOCATION:Κέντρο Άστρο
ATTACH;FMTTYPE=image/jpeg:https://hxosfm.gr/wp-content/uploads/mparmpagiannis.jpg
END:VEVENT
END:VCALENDAR