BEGIN:VCALENDAR
VERSION:2.0
PRODID:-//ΗΧΟΣ FM  94.2 Μουσικό Ραδιόφωνο - ECPv6.15.12.2//NONSGML v1.0//EN
CALSCALE:GREGORIAN
METHOD:PUBLISH
X-ORIGINAL-URL:https://hxosfm.gr
X-WR-CALDESC:Events for ΗΧΟΣ FM  94.2 Μουσικό Ραδιόφωνο
REFRESH-INTERVAL;VALUE=DURATION:PT1H
X-Robots-Tag:noindex
X-PUBLISHED-TTL:PT1H
BEGIN:VTIMEZONE
TZID:Europe/Athens
BEGIN:DAYLIGHT
TZOFFSETFROM:+0200
TZOFFSETTO:+0300
TZNAME:EEST
DTSTART:20220327T010000
END:DAYLIGHT
BEGIN:STANDARD
TZOFFSETFROM:+0300
TZOFFSETTO:+0200
TZNAME:EET
DTSTART:20221030T010000
END:STANDARD
BEGIN:DAYLIGHT
TZOFFSETFROM:+0200
TZOFFSETTO:+0300
TZNAME:EEST
DTSTART:20230326T010000
END:DAYLIGHT
BEGIN:STANDARD
TZOFFSETFROM:+0300
TZOFFSETTO:+0200
TZNAME:EET
DTSTART:20231029T010000
END:STANDARD
BEGIN:DAYLIGHT
TZOFFSETFROM:+0200
TZOFFSETTO:+0300
TZNAME:EEST
DTSTART:20240331T010000
END:DAYLIGHT
BEGIN:STANDARD
TZOFFSETFROM:+0300
TZOFFSETTO:+0200
TZNAME:EET
DTSTART:20241027T010000
END:STANDARD
END:VTIMEZONE
BEGIN:VEVENT
DTSTART;TZID=Europe/Athens:20230227T080000
DTEND;TZID=Europe/Athens:20230227T190000
DTSTAMP:20260423T113828
CREATED:20230204T174557Z
LAST-MODIFIED:20230204T174557Z
UID:62313-1677484800-1677524400@hxosfm.gr
SUMMARY:Καθαρά Δευτέρα στο Ρέθυμνο
DESCRIPTION:Καθαρά Δευτέρα \n\nΓΕΡΑΝΙ \n10:30 Η μάχη των χαρταετών. Ετοιμάζουμε τα ζύγια και αμολάμε τους χαρταετούς μας δίπλα στη θάλασσα – παραλία “Καμάρι”. \n12:30 Η παρέλαση της Καμήλας. Κούλουμα με πέταγμα χαρταετού\, καρναβαλικά δρώμενα και σαρακοστιανά εδέσματα. \nΔιοργάνωση: Πολιτιστικός Σύλλογος Γερανίου «Το Καμάρι» \n            ΤΣΕΣΜΕΣ \n11:00 Παραδοσιακά Κούλουμα στο Γήπεδο του Τσεσμέ (πίσω από το 10ο Δημ. Σχολείο)\, με ζωντανή Κρητική μουσική με τον Στρατή Μαμαλάκη και τον Παυλάκη Μιχάλη. \n             Διοργάνωση: Πολιτιστικός Σύλλογος «Νέας Γενιάς»\, Πλατανιά –Τσεσμέ \n  \n           ΣΤΑΥΡΩΜΕΝΟΣ \n 11:00 Παραδοσιακά Κούλουμα στον αύλειο χώρο του 5ου  Αρσάνειου Γυμνασίου  στο Σταυρωμένου με μουσική \n             Διοργάνωση: Σύλλογος  «Ουρανοκατέβατοι»
URL:https://hxosfm.gr/event/%ce%ba%ce%b1%ce%b8%ce%b1%cf%81%ce%ac-%ce%b4%ce%b5%cf%85%cf%84%ce%ad%cf%81%ce%b1-%cf%83%cf%84%ce%bf-%cf%81%ce%ad%ce%b8%cf%85%ce%bc%ce%bd%ce%bf-2/
LOCATION:Κουμπές
CATEGORIES:ΑΤΖΕΝΤΑ
ATTACH;FMTTYPE=image/jpeg:https://hxosfm.gr/wp-content/uploads/XARTAETOS.jpg
END:VEVENT
BEGIN:VEVENT
DTSTART;TZID=Europe/Athens:20230227T150000
DTEND;TZID=Europe/Athens:20230227T230000
DTSTAMP:20260423T113828
CREATED:20230221T191802Z
LAST-MODIFIED:20230221T191802Z
UID:62411-1677510000-1677538800@hxosfm.gr
SUMMARY:Διονύσης Σπανουδάκης & Ηρώ Γεωργακάκη live
DESCRIPTION:Την καθαρά Δευτέρα στο UPANO γλεντάμε από το μεσημέρι…\nΈνα ξεχωριστό live που σας περιμένει να διασκεδάσετε με τους :\n\n\n\nΔιονύσης Σπανουδάκης & Ηρώ Γεωργακάκη\n\n\n\nΚάντε την κράτηση σας\n 6981038552\n Δωρεάν Πάρκινγκ\nΜάχης Κρήτης 149 Ρέθυμνο
URL:https://hxosfm.gr/event/%ce%b4%ce%b9%ce%bf%ce%bd%cf%8d%cf%83%ce%b7%cf%82-%cf%83%cf%80%ce%b1%ce%bd%ce%bf%cf%85%ce%b4%ce%ac%ce%ba%ce%b7%cf%82-%ce%b7%cf%81%cf%8e-%ce%b3%ce%b5%cf%89%cf%81%ce%b3%ce%b1%ce%ba%ce%ac%ce%ba%ce%b7-li/
LOCATION:Upano\, Μάχης Κρήτης 149\, Ρέθυμνο\, Πλατανιάς
CATEGORIES:ΑΤΖΕΝΤΑ
ATTACH;FMTTYPE=image/jpeg:https://hxosfm.gr/wp-content/uploads/spanoudakis.jpg
END:VEVENT
BEGIN:VEVENT
DTSTART;TZID=Europe/Athens:20230227T190000
DTEND;TZID=Europe/Athens:20230227T233000
DTSTAMP:20260423T113828
CREATED:20230223T152923Z
LAST-MODIFIED:20230223T152923Z
UID:62501-1677524400-1677540600@hxosfm.gr
SUMMARY:Μανώλης Κονταρός live
DESCRIPTION:Ο Μανώλης Κονταρός ζωντανά\, την Καθαρά Δευτέρα\, στο Κοσμικό Κέντρο – Ταβέρνα Μύθος. \nΈναρξη 19.00. \nΤηλ. 2831071565.
URL:https://hxosfm.gr/event/%ce%bc%ce%b1%ce%bd%cf%8e%ce%bb%ce%b7%cf%82-%ce%ba%ce%bf%ce%bd%cf%84%ce%b1%cf%81%cf%8c%cf%82-live-4/
LOCATION:κέντρο Μύθος\, Ρέθυμνο\, Αδελιανός Κάμπος
CATEGORIES:ΑΤΖΕΝΤΑ
ATTACH;FMTTYPE=image/jpeg:https://hxosfm.gr/wp-content/uploads/kontaros-1.jpg
END:VEVENT
END:VCALENDAR