BEGIN:VCALENDAR
VERSION:2.0
PRODID:-//ΗΧΟΣ FM  94.2 Μουσικό Ραδιόφωνο - ECPv6.15.12.2//NONSGML v1.0//EN
CALSCALE:GREGORIAN
METHOD:PUBLISH
X-WR-CALNAME:ΗΧΟΣ FM  94.2 Μουσικό Ραδιόφωνο
X-ORIGINAL-URL:https://hxosfm.gr
X-WR-CALDESC:Events for ΗΧΟΣ FM  94.2 Μουσικό Ραδιόφωνο
REFRESH-INTERVAL;VALUE=DURATION:PT1H
X-Robots-Tag:noindex
X-PUBLISHED-TTL:PT1H
BEGIN:VTIMEZONE
TZID:Europe/Athens
BEGIN:DAYLIGHT
TZOFFSETFROM:+0200
TZOFFSETTO:+0300
TZNAME:EEST
DTSTART:20220327T010000
END:DAYLIGHT
BEGIN:STANDARD
TZOFFSETFROM:+0300
TZOFFSETTO:+0200
TZNAME:EET
DTSTART:20221030T010000
END:STANDARD
BEGIN:DAYLIGHT
TZOFFSETFROM:+0200
TZOFFSETTO:+0300
TZNAME:EEST
DTSTART:20230326T010000
END:DAYLIGHT
BEGIN:STANDARD
TZOFFSETFROM:+0300
TZOFFSETTO:+0200
TZNAME:EET
DTSTART:20231029T010000
END:STANDARD
BEGIN:DAYLIGHT
TZOFFSETFROM:+0200
TZOFFSETTO:+0300
TZNAME:EEST
DTSTART:20240331T010000
END:DAYLIGHT
BEGIN:STANDARD
TZOFFSETFROM:+0300
TZOFFSETTO:+0200
TZNAME:EET
DTSTART:20241027T010000
END:STANDARD
END:VTIMEZONE
BEGIN:VEVENT
DTSTART;TZID=Europe/Athens:20230215T170000
DTEND;TZID=Europe/Athens:20230215T190000
DTSTAMP:20260423T182100
CREATED:20230201T203409Z
LAST-MODIFIED:20230201T203409Z
UID:62229-1676480400-1676487600@hxosfm.gr
SUMMARY:Παιδικό αποκριάτικο πάρτι στην αίθουσα της Περιηγητικής Λέσχης Ρεθύμνου
DESCRIPTION:Παιδικό αποκριάτικο πάρτι με πολλές εκπλήξεις\, διοργανώνει η Καρναβαλική Ομάδα «Περιηγητές» στην αίθουσα της Περιηγητικής Λέσχης Ρεθύμνου! \nΈναρξη 17:00.
URL:https://hxosfm.gr/event/%cf%80%ce%b1%ce%b9%ce%b4%ce%b9%ce%ba%cf%8c-%ce%b1%cf%80%ce%bf%ce%ba%cf%81%ce%b9%ce%ac%cf%84%ce%b9%ce%ba%ce%bf-%cf%80%ce%ac%cf%81%cf%84%ce%b9-%cf%83%cf%84%ce%b7%ce%bd-%ce%b1%ce%af%ce%b8%ce%bf%cf%85/
LOCATION:Περιηγητική Λέσχη Ρεθύμνου\, Αγίου Φραγκίσκου 2
CATEGORIES:ΑΤΖΕΝΤΑ
ATTACH;FMTTYPE=image/jpeg:https://hxosfm.gr/wp-content/uploads/periigites.jpg
END:VEVENT
BEGIN:VEVENT
DTSTART;TZID=Europe/Athens:20230215T170000
DTEND;TZID=Europe/Athens:20230215T190000
DTSTAMP:20260423T182100
CREATED:20230214T145028Z
LAST-MODIFIED:20230214T145028Z
UID:62371-1676480400-1676487600@hxosfm.gr
SUMMARY:Αποκριάτικο μουσικοκινητικό πάρτυ για βρέφη
DESCRIPTION:Ένα αποκριάτικο μουσικοκινητικό πάρτυ για βρέφη παρέα με τους συνοδούς τους. Φορέστε τις στολές σας κι ελάτε να παίξουμε\, να χορέψουμε και να λικνιστούμε σε ρυθμούς αποκριάτικους . Τραγούδι\, μουσικά όργανα\, Ρυθμός\, αισθητηριακά ερεθισματα \, κέφι και χαρά!\nΓια περιορισμένο αριθμό.\nπού; Στο ΚουκούΛι των Μαραμπού\nΧαρ. Λιανδρη \, Ατσιπόλουλο.\nκράτηση θέσης με μήνυμα στη σελίδα ή στο 6974335213.\nΚαλές και παιχνιδιάρικες απόκριες
URL:https://hxosfm.gr/event/%ce%b1%cf%80%ce%bf%ce%ba%cf%81%ce%b9%ce%ac%cf%84%ce%b9%ce%ba%ce%bf-%ce%bc%ce%bf%cf%85%cf%83%ce%b9%ce%ba%ce%bf%ce%ba%ce%b9%ce%bd%ce%b7%cf%84%ce%b9%ce%ba%cf%8c-%cf%80%ce%ac%cf%81%cf%84%cf%85-%ce%b3/
LOCATION:Κουμπές
CATEGORIES:ΑΤΖΕΝΤΑ
ATTACH;FMTTYPE=image/jpeg:https://hxosfm.gr/wp-content/uploads/koukouli.jpg
END:VEVENT
BEGIN:VEVENT
DTSTART;TZID=Europe/Athens:20230215T203000
DTEND;TZID=Europe/Athens:20230215T223000
DTSTAMP:20260423T182100
CREATED:20230204T161746Z
LAST-MODIFIED:20230204T161746Z
UID:62264-1676493000-1676500200@hxosfm.gr
SUMMARY:Σπήλιος Φλώρος - «ΑΚΑΛΕΣΤΟΣ ΣΤΟ ΠΑΡΤΥ»
DESCRIPTION:ΑΚΑΛΕΣΤΟΣ ΣΤΟ ΠΑΡΤΥ\nStand up comedy με το Σπήλιο Φλώρο!\n\nΟ Σπήλιος Φλώρος παρουσιάζει τη δεύτερη σόλο stand up comedy παράστασή του!\nMετά το πρώτο του stand up comedy solo\, «Ξέρω τις κινήσεις»\, επιστρέφει με ολοκαίνουρια κείμενα με μια ακόμα πιο ώριμη και ολοκληρωμένη παράσταση.\n\nΜέσα από την κωμωδία\, ο Σπήλιος ανακαλύπτει τον εαυτό του και διαχειρίζεται εσωτερικές μάχες. Παράλληλα παντρεύεται\, χωρίζει\, συμφιλιώνεται με το πένθος\, προσπαθεί με κάθε τρόπο να μην είναι το πιο αμήχανο άτομο στον πλανήτη και εν τέλει συνειδητοποιεί με τον καλύτερο δυνατό τρόπο ότι έμαθε μικρός: «Δεν υπάρχει δε μπορώ\, υπάρχει δεν θέλω».\n\nΑφορμή για όλα αυτά\, ένα πάρτι στο οποίο\, προφανώς\, δεν τον κάλεσε κανείς. Ο Σπήλιος πάει ακάλεστος\, και περιγράφει όλη τη διαδικασία σε μια παράσταση με πολύ γέλιο και τρελό τζέρτζελο.\n\nΤιμή εισιτηρίου: 10 €
URL:https://hxosfm.gr/event/%cf%83%cf%80%ce%ae%ce%bb%ce%b9%ce%bf%cf%82-%cf%86%ce%bb%cf%8e%cf%81%ce%bf%cf%82-%ce%b1%ce%ba%ce%b1%ce%bb%ce%b5%cf%83%cf%84%ce%bf%cf%83-%cf%83%cf%84%ce%bf-%cf%80%ce%b1%cf%81%cf%84%cf%85/
LOCATION:cineland Παντελής\, Εμμανουήλ Πορτάλιου 3\, Ρέθυμνο
CATEGORIES:ΑΤΖΕΝΤΑ
ATTACH;FMTTYPE=image/jpeg:https://hxosfm.gr/wp-content/uploads/flwros.jpg
END:VEVENT
END:VCALENDAR