BEGIN:VCALENDAR
VERSION:2.0
PRODID:-//ΗΧΟΣ FM  94.2 Μουσικό Ραδιόφωνο - ECPv6.15.12.2//NONSGML v1.0//EN
CALSCALE:GREGORIAN
METHOD:PUBLISH
X-WR-CALNAME:ΗΧΟΣ FM  94.2 Μουσικό Ραδιόφωνο
X-ORIGINAL-URL:https://hxosfm.gr
X-WR-CALDESC:Events for ΗΧΟΣ FM  94.2 Μουσικό Ραδιόφωνο
REFRESH-INTERVAL;VALUE=DURATION:PT1H
X-Robots-Tag:noindex
X-PUBLISHED-TTL:PT1H
BEGIN:VTIMEZONE
TZID:Europe/Athens
BEGIN:DAYLIGHT
TZOFFSETFROM:+0200
TZOFFSETTO:+0300
TZNAME:EEST
DTSTART:20220327T010000
END:DAYLIGHT
BEGIN:STANDARD
TZOFFSETFROM:+0300
TZOFFSETTO:+0200
TZNAME:EET
DTSTART:20221030T010000
END:STANDARD
BEGIN:DAYLIGHT
TZOFFSETFROM:+0200
TZOFFSETTO:+0300
TZNAME:EEST
DTSTART:20230326T010000
END:DAYLIGHT
BEGIN:STANDARD
TZOFFSETFROM:+0300
TZOFFSETTO:+0200
TZNAME:EET
DTSTART:20231029T010000
END:STANDARD
BEGIN:DAYLIGHT
TZOFFSETFROM:+0200
TZOFFSETTO:+0300
TZNAME:EEST
DTSTART:20240331T010000
END:DAYLIGHT
BEGIN:STANDARD
TZOFFSETFROM:+0300
TZOFFSETTO:+0200
TZNAME:EET
DTSTART:20241027T010000
END:STANDARD
END:VTIMEZONE
BEGIN:VEVENT
DTSTART;TZID=Europe/Athens:20230213T200000
DTEND;TZID=Europe/Athens:20230213T233000
DTSTAMP:20260423T182107
CREATED:20230210T121703Z
LAST-MODIFIED:20230210T121703Z
UID:62361-1676318400-1676331000@hxosfm.gr
SUMMARY:Carnival Party
DESCRIPTION:
URL:https://hxosfm.gr/event/carnival-party-2/
LOCATION:The Coffee Stop\, Σταυρωμέ΄νος
CATEGORIES:ΑΤΖΕΝΤΑ
ATTACH;FMTTYPE=image/jpeg:https://hxosfm.gr/wp-content/uploads/coffee-stop.jpg
END:VEVENT
END:VCALENDAR